BEGIN:VCALENDAR
VERSION:2.0
PRODID:-//Sertifikasi Kompetensi Profesionalis Indonesia - ECPv5.1.6//NONSGML v1.0//EN
CALSCALE:GREGORIAN
METHOD:PUBLISH
X-WR-CALNAME:Sertifikasi Kompetensi Profesionalis Indonesia
X-ORIGINAL-URL:https://skpi.co.id
X-WR-CALDESC:Events for Sertifikasi Kompetensi Profesionalis Indonesia
BEGIN:VTIMEZONE
TZID:Asia/Jakarta
BEGIN:STANDARD
TZOFFSETFROM:+0700
TZOFFSETTO:+0700
TZNAME:WIB
DTSTART:20260101T000000
END:STANDARD
END:VTIMEZONE
BEGIN:VEVENT
DTSTART;TZID=Asia/Jakarta:20260429T080000
DTEND;TZID=Asia/Jakarta:20260429T153000
DTSTAMP:20260423T080327
CREATED:20260420T024348Z
LAST-MODIFIED:20260420T024348Z
UID:4738-1777449600-1777476600@skpi.co.id
SUMMARY:UJI SERTIFIKASI PEMBANGKIT TENAGA LISTRIK TERAKREDITASI 29 APRIL 2026
DESCRIPTION:Sertifikasi Ketenagalistrikan PEMBANGKIT Tenaga  Teknik Listrik Terakreditasi LSK PT.SKPI\nPT.SKPI akan mengadakan uji kompetensi sertifikasi ketenagalistrikan dengan cara Offline bidang Pembangkit\nketenagalistrikan Pembangkit tenaga Listrik\,\nSub bidang – Semua Sub Bidang di minggu ke 4\, 29 april 2026 ini. Dengan jumlah sertifikat akreditasi maksimal 25 sertifikat \, Minggu keempat di tanggal 29 april 2026 \,untuk informasi bisa ditanyakan secara Langsung datang ke kantor kami atau Via Online dengan cara sebagai berikut : atau info pendaftaran untuk mengikuti event berikutnya Segera daftar di form ini atau menghubungi kontak tertera di gambar. \nUpdate Kuota : PEMBANGKIT 29/04 – 02 orang / 04 serkom (21 slots left)\n \nUntuk Biaya Sertifikasi 2026  perserkom  :Rp 3.500.000\, Biaya penyesuaian : Rp 1.600.000\, Biaya perpanjangan : Rp 1.500.000\nBiaya vokasi : Rp 1.700.000 \n \nBERIKUT LAMPIRAN SERTIFIKAT AKREDITASI LEMBAGA SERTIFIKASI KOMPETENSI TENAGA TEKNIK  SUB BIDANG DAN BIDANG YANG TERDAFTAR. \n  \n \nHari / Tanggal : Rabu / 29 april 2026\nTempat Uji : Horison Ultima Menteng Jakarta – \nJl. Menteng Raya No.33\, RT.1/RW.10\, Kb. Sirih\, Kec. Menteng\, Kota Jakarta Pusat\, Daerah Khusus Ibukota Jakarta 10340 \nSusunan Acara Kegiatan : \n\n\n\nRabu\, 29 april 2026\n\n\n\n08:00 –09:30\nPembukaan\,\n\n\n\n09:30 – 12:00\nKegiatan Uji Tulis\n\n\n\n12:00 – 13:00\nIstirahat\n\n\n\n13:00 – 13:30\nPengumpulan hasil Uji Tulis (hard copy)\n\n\n\n13:30 – 15:30\nKegiatan Uji Praktik\, di TUK
URL:https://skpi.co.id/event/uji-sertifikasi-pembangkit-tenaga-listrik-terakreditasi-29-april-2026/
LOCATION:Ujikom ketenagalistrikan Offline\, Jl. Menteng Raya No.29\, RT.1/RW.10\, Kb. Sirih\, Kec. Menteng\, Kota Jakarta Pusat\, Daerah Khusus Ibukota Jakarta 10410\, Jakarta\, Indonesia\, 10410\, Indonesia
CATEGORIES:pembangkit
ATTACH;FMTTYPE=image/png:https://skpi.co.id/wp-content/uploads/2026/04/uji-sertifikasi-pembangkit-ketenagalistrikan-29-april-2026-bosAi.png
ORGANIZER;CN="PT.%20SKPI":MAILTO:admin@skpi.co.id
END:VEVENT
BEGIN:VEVENT
DTSTART;TZID=Asia/Jakarta:20260502T080000
DTEND;TZID=Asia/Jakarta:20260502T153000
DTSTAMP:20260423T080327
CREATED:20260421T033834Z
LAST-MODIFIED:20260421T033834Z
UID:4741-1777708800-1777735800@skpi.co.id
SUMMARY:UJI SERTIFIKASI PEMANFAATAN TENAGA LISTRIK TERAKREDITASI 02 MEI 2026
DESCRIPTION:Sertifikasi Ketenagalistrikan PEMANFAATAN Tenaga  Teknik Listrik  LSK PT.SKPI\nPT.SKPI akan mengadakan uji kompetensi sertifikasi ketenagalistrikan dengan cara Offline bidang Pemanfaatan\nketenagalistrikan Pemanfaatan tenaga Listrik\,\nSub bidang – Semua Sub Bidang di minggu ke 1\, 02 mei 2026  ini. Dengan jumlah sertifikat akreditasi maksimal 25 sertifikat \, Minggu pertama hari/tanggal Sabtu / 02 mei 2026 \,untuk informasi bisa ditanyakan secara Langsung datang ke kantor kami atau Via Online dengan cara sebagai berikut : atau info pendaftaran untuk mengikuti event berikutnya Segera daftar di form ini atau menghubungi kontak tertera di gambar.\nUntuk Biaya Sertifikasi 2026  perserkom  :Rp 3.500.000\, Biaya penyesuaian : Rp 1.600.000\, Biaya perpanjangan : Rp 1.500.000\nBiaya vokasi : Rp 1.700.000 \nKuota Tersedia : \nUPDATE KUOTA : IPTL 02/05- 13 orang / 16 serkom (09 slots left)\n \n \nHari / Tanggal : Sabtu / 02 mei 2026\nTempat Uji : Horison Ultima Menteng Jakarta – \nJl. Menteng Raya No.33\, RT.1/RW.10\, Kb. Sirih\, Kec. Menteng\, Kota Jakarta Pusat\, Daerah Khusus Ibukota Jakarta 10340 \nSusunan Acara Kegiatan : \n\n\n\nSabtu\, 02 mei 2026\n\n\n\n08:00 –09:30\nPembukaan\,\n\n\n\n09:30 – 12:00\nKegiatan Uji Tulis\n\n\n\n12:00 – 13:00\nIstirahat\n\n\n\n13:00 – 13:30\nPengumpulan hasil Uji Tulis (hard copy)\n\n\n\n13:30 – 15:30\nKegiatan Uji Praktik\, di TUK
URL:https://skpi.co.id/event/uji-sertifikasi-pemanfaatan-tenaga-listrik-terakreditasi-02-mei-2026/
LOCATION:Ujikom ketenagalistrikan Offline\, Jl. Menteng Raya No.29\, RT.1/RW.10\, Kb. Sirih\, Kec. Menteng\, Kota Jakarta Pusat\, Daerah Khusus Ibukota Jakarta 10410\, Jakarta\, Indonesia\, 10410\, Indonesia
CATEGORIES:pemanfaatan
ATTACH;FMTTYPE=image/png:https://skpi.co.id/wp-content/uploads/2026/04/uji-sertifikasi-iptl-pemanfaatan-ketenagalistrikan-02-mei-2026-bosAi.png
ORGANIZER;CN="PT.%20SKPI":MAILTO:admin@skpi.co.id
END:VEVENT
BEGIN:VEVENT
DTSTART;TZID=Asia/Jakarta:20260502T080000
DTEND;TZID=Asia/Jakarta:20260502T153000
DTSTAMP:20260423T080327
CREATED:20260422T073937Z
LAST-MODIFIED:20260422T073937Z
UID:4744-1777708800-1777735800@skpi.co.id
SUMMARY:UJI SERTIFIKASI DISTRIBUSI TENAGA LISTRIK TERAKREDITASI 02 MEI 2026
DESCRIPTION:Sertifikasi Ketenagalistrikan DISTRIBUSI Tenaga  Teknik Listrik  LSK PT.SKPI\nPT.SKPI akan mengadakan uji kompetensi sertifikasi ketenagalistrikan dengan cara Offline bidang Distribusi\nketenagalistrikan Distribusi tenaga Listrik\,\nSub bidang – Semua Sub Bidang  di minggu ke 1\,  02 mei 2026 ini. Dengan jumlah sertifikat akreditasi maksimal 25 sertifikat \, Minggu pertama di tanggal 02 mei 2026 \,untuk informasi bisa ditanyakan secara Langsung datang ke kantor kami atau Via Online dengan cara sebagai berikut : atau info pendaftaran untuk mengikuti event berikutnya Segera daftar di form ini atau menghubungi kontak tertera di gambar. \nUntuk Biaya Sertifikasi 2026  perserkom  :Rp 3.500.000\, Biaya penyesuaian : Rp 1.600.000\, Biaya perpanjangan : Rp 1.500.000\nBiaya vokasi : Rp 1.700.000 \nUPDATE : distribusi 02/05 – 05 orang / 08 serkom (17 slots left) \nBERIKUT LAMPIRAN SERTIFIKAT AKREDITASI LEMBAGA SERTIFIKASI KOMPETENSI TENAGA TEKNIK  SUB BIDANG DAN BIDANG YANG TERDAFTAR. \n  \n \nHari / Tanggal : Sabtu / 02 mei 2026\nTempat Uji Hybrid : Horison Ultima Menteng Jakarta \nJl. Menteng Raya No.33\, RT.1/RW.10\, Kb. Sirih\, Kec. Menteng\, Kota Jakarta Pusat\, Daerah Khusus Ibukota Jakarta 10340 \nSusunan Acara Kegiatan : \n\n\n\nSabtu\, 02 mei 2026\n\n\n\n08:00 –09:30\nPembukaan\,\n\n\n\n09:30 – 12:00\nKegiatan Uji Tulis\n\n\n\n12:00 – 13:00\nIstirahat\n\n\n\n13:00 – 13:30\nPengumpulan hasil Uji Tulis (hard copy)\n\n\n\n13:30 – 15:30\nKegiatan Uji Praktik\, di TUK
URL:https://skpi.co.id/event/uji-sertifikasi-distribusi-tenaga-listrik-terakreditasi-02-mei-2026/
LOCATION:Ujikom ketenagalistrikan Offline\, Jl. Menteng Raya No.29\, RT.1/RW.10\, Kb. Sirih\, Kec. Menteng\, Kota Jakarta Pusat\, Daerah Khusus Ibukota Jakarta 10410\, Jakarta\, Indonesia\, 10410\, Indonesia
CATEGORIES:distribusi
ATTACH;FMTTYPE=image/png:https://skpi.co.id/wp-content/uploads/2026/04/uji-sertifikasi-distribusi-ketenagalistrikan-02-mei-2026-bosAi.png
ORGANIZER;CN="PT.%20SKPI":MAILTO:admin@skpi.co.id
END:VEVENT
BEGIN:VEVENT
DTSTART;TZID=Asia/Jakarta:20260504T080000
DTEND;TZID=Asia/Jakarta:20260504T153000
DTSTAMP:20260423T080327
CREATED:20260422T074318Z
LAST-MODIFIED:20260422T074318Z
UID:4747-1777881600-1777908600@skpi.co.id
SUMMARY:UJI SERTIFIKASI TRANSMISI TENAGA LISTRIK TERAKREDITASI 04 MEI 2026
DESCRIPTION:Sertifikasi Ketenagalistrikan Transmisi Tenaga  Teknik Listrik  LSK PT.SKPI\nPT.SKPI akan mengadakan uji kompetensi sertifikasi ketenagalistrikan dengan cara Offline bidang Transmisi\nketenagalistrikan Transmisi tenaga Listrik\,\nSub bidang – Semua Sub Bidang di minggu ke 1 \, 04 mei 2026 ini. Dengan jumlah sertifikat akreditasi maksimal 25 sertifikat \, Minggu pertama di tanggal –  04 mei 2026  \,untuk informasi bisa ditanyakan secara Langsung datang ke kantor kami atau Via Online dengan cara sebagai berikut : atau info pendaftaran untuk mengikuti event berikutnya Segera daftar di form ini atau menghubungi kontak tertera di gambar. \n \nUpdate:\nTransmisi – 04/05 – 06 orang / 06 serkom (19 slots left)\n \n \nUntuk Biaya Sertifikasi 2026  perserkom  :Rp 3.500.000\, Biaya penyesuaian : Rp 1.600.000\, Biaya perpanjangan : Rp 1.500.000\nBiaya vokasi : Rp 1.700.000 \nBERIKUT LAMPIRAN SERTIFIKAT AKREDITASI LEMBAGA SERTIFIKASI KOMPETENSI TENAGA TEKNIK  SUB BIDANG DAN BIDANG YANG TERDAFTAR. \n  \n \nHari / Tanggal : Senin / 04 mei 2026\nTempat Uji : Horison Ultima Menteng Jakarta – \nJl. Menteng Raya No.33\, RT.1/RW.10\, Kb. Sirih\, Kec. Menteng\, Kota Jakarta Pusat\, Daerah Khusus Ibukota Jakarta 10340 \nSusunan Acara Kegiatan : \n\n\n\nSenin\, 04 mei 2026\n\n\n\n08:00 –09:30\nPembukaan\,\n\n\n\n09:30 – 12:00\nKegiatan Uji Tulis\n\n\n\n12:00 – 13:00\nIstirahat\n\n\n\n13:00 – 13:30\nPengumpulan hasil Uji Tulis (hard copy)\n\n\n\n13:30 – 15:30\nKegiatan Uji Praktik\, di TUK
URL:https://skpi.co.id/event/uji-sertifikasi-transmisi-tenaga-listrik-terakreditasi-04-mei-2026/
LOCATION:Ujikom ketenagalistrikan Offline\, Jl. Menteng Raya No.29\, RT.1/RW.10\, Kb. Sirih\, Kec. Menteng\, Kota Jakarta Pusat\, Daerah Khusus Ibukota Jakarta 10410\, Jakarta\, Indonesia\, 10410\, Indonesia
CATEGORIES:transmisi
ATTACH;FMTTYPE=image/png:https://skpi.co.id/wp-content/uploads/2026/04/uji-sertifikasi-transmisi-ketenagalistrikan-04-mei-2026-bosAi.png
ORGANIZER;CN="PT.%20SKPI":MAILTO:admin@skpi.co.id
END:VEVENT
END:VCALENDAR