BEGIN:VCALENDAR
VERSION:2.0
PRODID:-//Sertifikasi Kompetensi Profesionalis Indonesia - ECPv5.1.6//NONSGML v1.0//EN
CALSCALE:GREGORIAN
METHOD:PUBLISH
X-WR-CALNAME:Sertifikasi Kompetensi Profesionalis Indonesia
X-ORIGINAL-URL:https://skpi.co.id
X-WR-CALDESC:Events for Sertifikasi Kompetensi Profesionalis Indonesia
BEGIN:VTIMEZONE
TZID:Asia/Jakarta
BEGIN:STANDARD
TZOFFSETFROM:+0700
TZOFFSETTO:+0700
TZNAME:WIB
DTSTART:20250101T000000
END:STANDARD
END:VTIMEZONE
BEGIN:VEVENT
DTSTART;TZID=Asia/Jakarta:20250802T080000
DTEND;TZID=Asia/Jakarta:20250802T170000
DTSTAMP:20260421T152813
CREATED:20250724T060318Z
LAST-MODIFIED:20250724T060318Z
UID:4439-1754121600-1754154000@skpi.co.id
SUMMARY:UJI SERTIFIKASI PEMANFAATAN TENAGA LISTRIK 02 AGUSTUS 2025
DESCRIPTION:Sertifikasi Ketenagalistrikan PEMANFAATAN Tenaga  Teknik Listrik  LSK PT.SKPI\nPT.SKPI akan mengadakan uji kompetensi sertifikasi ketenagalistrikan dengan cara Offline bidang Pemanfaatan\nketenagalistrikan Pemanfaatan tenaga Listrik\,\nSub bidang – Semua Sub Bidang di minggu ke 1\, 02 agustus 2025  ini. Dengan jumlah sertifikat akreditasi maksimal 25 sertifikat \, Minggu pertama hari/tanggal Sabtu / 02 agustus 2025  \,untuk informasi bisa ditanyakan secara Langsung datang ke kantor kami atau Via Online dengan cara sebagai berikut : atau info pendaftaran untuk mengikuti event berikutnya Segera daftar di form ini atau menghubungi kontak tertera di gambar.\nUntuk Biaya Sertifikasi 2025  perserkom  :Rp 3.500.000\, Biaya penyesuaian : Rp 1.600.000\, Biaya perpanjangan : Rp 1.500.000\nBiaya vokasi : Rp 1.700.000\n \nHari / Tanggal : Sabtu / 02 agustus 2025\nTempat Uji : PT.SKPI\nJl. Menteng Raya No.29\, RT.1/RW.10\, Kb. Sirih\, Kec. Menteng\, Kota Jakarta Pusat 10410 \nSusunan Acara Kegiatan : \n\n\n\nSabtu\, 02 agustus 2025\n\n\n\n08:00 –09:30\nPembukaan\,\n\n\n\n09:30 – 12:00\nKegiatan Uji Tulis\n\n\n\n12:00 – 13:00\nIstirahat\n\n\n\n13:00 – 13:30\nPengumpulan hasil Uji Tulis (hard copy)\n\n\n\n13:30 – 16:00\nKegiatan Uji Praktik\, di TUK
URL:https://skpi.co.id/event/uji-sertifikasi-pemanfaatan-tenaga-listrik-02agustus2025/
LOCATION:Ujikom ketenagalistrikan Offline\, Jl. Menteng Raya No.29\, RT.1/RW.10\, Kb. Sirih\, Kec. Menteng\, Kota Jakarta Pusat\, Daerah Khusus Ibukota Jakarta 10410\, Jakarta\, Indonesia\, 10410\, Indonesia
CATEGORIES:pemanfaatan
ATTACH;FMTTYPE=image/png:https://skpi.co.id/wp-content/uploads/2025/07/uji-sertifikasi-iptl-ketenagalistrikan-02-agustus-2025-bosAi.png
ORGANIZER;CN="PT.%20SKPI":MAILTO:admin@skpi.co.id
END:VEVENT
BEGIN:VEVENT
DTSTART;TZID=Asia/Jakarta:20250808T080000
DTEND;TZID=Asia/Jakarta:20250808T170000
DTSTAMP:20260421T152813
CREATED:20250728T090403Z
LAST-MODIFIED:20250728T090958Z
UID:4442-1754640000-1754672400@skpi.co.id
SUMMARY:UJI SERTIFIKASI DISTRIBUSI TENAGA LISTRIK 08 AGUSTUS 2025
DESCRIPTION:Sertifikasi Ketenagalistrikan DISTRIBUSI Tenaga  Teknik Listrik  LSK PT.SKPI\nPT.SKPI akan mengadakan uji kompetensi sertifikasi ketenagalistrikan dengan cara Offline bidang Distribusi\nketenagalistrikan Distribusi tenaga Listrik\,\nSub bidang – Semua Sub Bidang di minggu ke 2 agustus 2025 ini. Dengan jumlah sertifikat akreditasi maksimal 25 sertifikat \, Minggu Kedua di tanggal 08 agustus 2025 \,untuk informasi bisa ditanyakan secara Langsung datang ke kantor kami atau Via Online dengan cara sebagai berikut : atau info pendaftaran untuk mengikuti event berikutnya Segera daftar di form ini atau menghubungi kontak tertera di gambar. \nUntuk Biaya Sertifikasi 2025  perserkom  :Rp 3.500.000\, Biaya penyesuaian : Rp 1.600.000\, Biaya perpanjangan : Rp 1.500.000\nBiaya vokasi : Rp 1.700.000\n \nHari / Tanggal : Jumat / 08 agustus 2025\nTempat Uji : PT.SKPI\nJl. Menteng Raya No.29\, RT.1/RW.10\, Kb. Sirih\, Kec. Menteng\, Kota Jakarta Pusat 10410 \nSusunan Acara Kegiatan : \n\n\n\nJumat\, 08 agustus 2025\n\n\n\n08:00 –09:30\nPembukaan\,\n\n\n\n09:30 – 12:00\nKegiatan Uji Tulis\n\n\n\n12:00 – 13:00\nIstirahat\n\n\n\n13:00 – 13:30\nPengumpulan hasil Uji Tulis (hard copy)\n\n\n\n13:30 – 16:00\nKegiatan Uji Praktik\, di TUK
URL:https://skpi.co.id/event/uji-sertifikasi-distribusi-tenaga-listrik-08agustus2025/
LOCATION:Ujikom ketenagalistrikan Offline\, Jl. Menteng Raya No.29\, RT.1/RW.10\, Kb. Sirih\, Kec. Menteng\, Kota Jakarta Pusat\, Daerah Khusus Ibukota Jakarta 10410\, Jakarta\, Indonesia\, 10410\, Indonesia
CATEGORIES:distribusi
ATTACH;FMTTYPE=image/png:https://skpi.co.id/wp-content/uploads/2025/07/uji-sertifikasi-distribusi-ketenagalistrikan-08-agustus-2025-bosAi.png
ORGANIZER;CN="PT.%20SKPI":MAILTO:admin@skpi.co.id
END:VEVENT
BEGIN:VEVENT
DTSTART;TZID=Asia/Jakarta:20250808T080000
DTEND;TZID=Asia/Jakarta:20250808T170000
DTSTAMP:20260421T152813
CREATED:20250728T090941Z
LAST-MODIFIED:20250728T090941Z
UID:4445-1754640000-1754672400@skpi.co.id
SUMMARY:UJI SERTIFIKASI PEMBANGKIT TENAGA LISTRIK 08 AGUSTUS 2025
DESCRIPTION:Sertifikasi Ketenagalistrikan PEMBANGKIT Tenaga  Teknik Listrik  LSK PT.SKPI\nPT.SKPI akan mengadakan uji kompetensi sertifikasi ketenagalistrikan dengan cara Offline bidang Pembangkit\nketenagalistrikan Pembangkit tenaga Listrik\,\nSub bidang – Semua Sub Bidang di minggu ke 2\, 08 agustus 2025 ini. Dengan jumlah sertifikat akreditasi maksimal 25 sertifikat \, Minggu kedua di tanggal 08 agustus 2025  \,untuk informasi bisa ditanyakan secara Langsung datang ke kantor kami atau Via Online dengan cara sebagai berikut : atau info pendaftaran untuk mengikuti event berikutnya Segera daftar di form ini atau menghubungi kontak tertera di gambar. \nUntuk Biaya Sertifikasi 2025  perserkom  :Rp 3.500.000\, Biaya penyesuaian : Rp 1.600.000\, Biaya perpanjangan : Rp 1.500.000\nBiaya vokasi : Rp 1.700.000 \n \nHari / Tanggal : jumat / 08 agustus 2025\nTempat Uji : PT.SKPI\nJl. Menteng Raya No.29\, RT.1/RW.10\, Kb. Sirih\, Kec. Menteng\, Kota Jakarta Pusat 10410 \nSusunan Acara Kegiatan : \n\n\n\nJumat\, 08 agustus 2025\n\n\n\n08:00 –09:30\nPembukaan\,\n\n\n\n09:30 – 12:00\nKegiatan Uji Tulis\n\n\n\n12:00 – 13:00\nIstirahat\n\n\n\n13:00 – 13:30\nPengumpulan hasil Uji Tulis (hard copy)\n\n\n\n13:30 – 16:00\nKegiatan Uji Praktik\, di TUK
URL:https://skpi.co.id/event/uji-sertifikasi-pembangkit-tenaga-listrik-08agustus2025/
LOCATION:Ujikom ketenagalistrikan Offline\, Jl. Menteng Raya No.29\, RT.1/RW.10\, Kb. Sirih\, Kec. Menteng\, Kota Jakarta Pusat\, Daerah Khusus Ibukota Jakarta 10410\, Jakarta\, Indonesia\, 10410\, Indonesia
CATEGORIES:pembangkit
ATTACH;FMTTYPE=image/png:https://skpi.co.id/wp-content/uploads/2025/07/uji-sertifikasi-pembangkit-ketenagalistrikan-08-agustus-2025-bosAi.png
ORGANIZER;CN="PT.%20SKPI":MAILTO:admin@skpi.co.id
END:VEVENT
BEGIN:VEVENT
DTSTART;TZID=Asia/Jakarta:20250809T080000
DTEND;TZID=Asia/Jakarta:20250809T170000
DTSTAMP:20260421T152813
CREATED:20250728T091419Z
LAST-MODIFIED:20250728T091419Z
UID:4448-1754726400-1754758800@skpi.co.id
SUMMARY:UJI SERTIFIKASI PEMANFAATAN TENAGA LISTRIK 09 AGUSTUS 2025
DESCRIPTION:Sertifikasi Ketenagalistrikan PEMANFAATAN Tenaga  Teknik Listrik  LSK PT.SKPI\nPT.SKPI akan mengadakan uji kompetensi sertifikasi ketenagalistrikan dengan cara Offline bidang Pemanfaatan\nketenagalistrikan Pemanfaatan tenaga Listrik\,\nSub bidang – Semua Sub Bidang di minggu ke 2\, 09 agustus 2025  ini. Dengan jumlah sertifikat akreditasi maksimal 25 sertifikat \, Minggu kedua hari/tanggal Sabtu / 09 agustus 2025  \,untuk informasi bisa ditanyakan secara Langsung datang ke kantor kami atau Via Online dengan cara sebagai berikut : atau info pendaftaran untuk mengikuti event berikutnya Segera daftar di form ini atau menghubungi kontak tertera di gambar.\nUntuk Biaya Sertifikasi 2025  perserkom  :Rp 3.500.000\, Biaya penyesuaian : Rp 1.600.000\, Biaya perpanjangan : Rp 1.500.000\nBiaya vokasi : Rp 1.700.000\n \nHari / Tanggal : Sabtu / 09 agustus 2025\nTempat Uji : PT.SKPI\nJl. Menteng Raya No.29\, RT.1/RW.10\, Kb. Sirih\, Kec. Menteng\, Kota Jakarta Pusat 10410 \nSusunan Acara Kegiatan : \n\n\n\nSabtu\, 09 agustus 2025\n\n\n\n08:00 –09:30\nPembukaan\,\n\n\n\n09:30 – 12:00\nKegiatan Uji Tulis\n\n\n\n12:00 – 13:00\nIstirahat\n\n\n\n13:00 – 13:30\nPengumpulan hasil Uji Tulis (hard copy)\n\n\n\n13:30 – 16:00\nKegiatan Uji Praktik\, di TUK
URL:https://skpi.co.id/event/uji-sertifikasi-pemanfaatan-tenaga-listrik-09agustus2025/
LOCATION:Ujikom ketenagalistrikan Offline\, Jl. Menteng Raya No.29\, RT.1/RW.10\, Kb. Sirih\, Kec. Menteng\, Kota Jakarta Pusat\, Daerah Khusus Ibukota Jakarta 10410\, Jakarta\, Indonesia\, 10410\, Indonesia
CATEGORIES:pemanfaatan
ATTACH;FMTTYPE=image/png:https://skpi.co.id/wp-content/uploads/2025/07/uji-sertifikasi-iptl-ketenagalistrikan-09-agustus-2025-bosAi.png
ORGANIZER;CN="PT.%20SKPI":MAILTO:admin@skpi.co.id
END:VEVENT
BEGIN:VEVENT
DTSTART;TZID=Asia/Jakarta:20250815T080000
DTEND;TZID=Asia/Jakarta:20250815T170000
DTSTAMP:20260421T152813
CREATED:20250803T113032Z
LAST-MODIFIED:20250803T113032Z
UID:4452-1755244800-1755277200@skpi.co.id
SUMMARY:UJI SERTIFIKASI PEMANFAATAN TENAGA LISTRIK 15 AGUSTUS 2025
DESCRIPTION:Sertifikasi Ketenagalistrikan PEMANFAATAN Tenaga  Teknik Listrik  LSK PT.SKPI\nPT.SKPI akan mengadakan uji kompetensi sertifikasi ketenagalistrikan dengan cara Offline bidang Pemanfaatan\nketenagalistrikan Pemanfaatan tenaga Listrik\,\nSub bidang – Semua Sub Bidang di minggu ke 3\, 15 agustus 2025  ini. Dengan jumlah sertifikat akreditasi maksimal 25 sertifikat \, Minggu ketiga hari/tanggal Jumat / 15 agustus 2025  \,untuk informasi bisa ditanyakan secara Langsung datang ke kantor kami atau Via Online dengan cara sebagai berikut : atau info pendaftaran untuk mengikuti event berikutnya Segera daftar di form ini atau menghubungi kontak tertera di gambar.\nUntuk Biaya Sertifikasi 2025  perserkom  :Rp 3.500.000\, Biaya penyesuaian : Rp 1.600.000\, Biaya perpanjangan : Rp 1.500.000\nBiaya vokasi : Rp 1.700.000\n \nHari / Tanggal : Jumat / 15 agustus 2025\nTempat Uji : PT.SKPI\nJl. Menteng Raya No.29\, RT.1/RW.10\, Kb. Sirih\, Kec. Menteng\, Kota Jakarta Pusat 10410 \nSusunan Acara Kegiatan : \n\n\n\nJumat\, 15 agustus 2025\n\n\n\n08:00 –09:30\nPembukaan\,\n\n\n\n09:30 – 12:00\nKegiatan Uji Tulis\n\n\n\n12:00 – 13:00\nIstirahat\n\n\n\n13:00 – 13:30\nPengumpulan hasil Uji Tulis (hard copy)\n\n\n\n13:30 – 16:00\nKegiatan Uji Praktik\, di TUK
URL:https://skpi.co.id/event/uji-sertifikasi-pemanfaatan-tenaga-listrik-15agustus2025/
LOCATION:Ujikom ketenagalistrikan Offline\, Jl. Menteng Raya No.29\, RT.1/RW.10\, Kb. Sirih\, Kec. Menteng\, Kota Jakarta Pusat\, Daerah Khusus Ibukota Jakarta 10410\, Jakarta\, Indonesia\, 10410\, Indonesia
CATEGORIES:pemanfaatan
ATTACH;FMTTYPE=image/png:https://skpi.co.id/wp-content/uploads/2025/08/uji-sertifikasi-iptl-ketenagalistrikan-15-agustus-2025-bosAi.png
ORGANIZER;CN="PT.%20SKPI":MAILTO:admin@skpi.co.id
END:VEVENT
BEGIN:VEVENT
DTSTART;TZID=Asia/Jakarta:20250823T080000
DTEND;TZID=Asia/Jakarta:20250823T170000
DTSTAMP:20260421T152814
CREATED:20250811T033427Z
LAST-MODIFIED:20250811T033427Z
UID:4457-1755936000-1755968400@skpi.co.id
SUMMARY:UJI SERTIFIKASI PEMBANGKIT TENAGA LISTRIK 23 AGUSTUS 2025
DESCRIPTION:Sertifikasi Ketenagalistrikan PEMBANGKIT Tenaga  Teknik Listrik  LSK PT.SKPI\nPT.SKPI akan mengadakan uji kompetensi sertifikasi ketenagalistrikan dengan cara Offline bidang Pembangkit\nketenagalistrikan Pembangkit tenaga Listrik\,\nSub bidang – Semua Sub Bidang di minggu ke 4\, 23 agustus 2025 ini. Dengan jumlah sertifikat akreditasi maksimal 25 sertifikat \, Minggu keempat di tanggal 23 agustus 2025  \,untuk informasi bisa ditanyakan secara Langsung datang ke kantor kami atau Via Online dengan cara sebagai berikut : atau info pendaftaran untuk mengikuti event berikutnya Segera daftar di form ini atau menghubungi kontak tertera di gambar. \nUntuk Biaya Sertifikasi 2025  perserkom  :Rp 3.500.000\, Biaya penyesuaian : Rp 1.600.000\, Biaya perpanjangan : Rp 1.500.000\nBiaya vokasi : Rp 1.700.000 \n \nHari / Tanggal : Sabtu / 23 agustus 2025\nTempat Uji : PT.SKPI\nJl. Menteng Raya No.29\, RT.1/RW.10\, Kb. Sirih\, Kec. Menteng\, Kota Jakarta Pusat 10410 \nSusunan Acara Kegiatan : \n\n\n\nSabtu\, 23 agustus 2025\n\n\n\n08:00 –09:30\nPembukaan\,\n\n\n\n09:30 – 12:00\nKegiatan Uji Tulis\n\n\n\n12:00 – 13:00\nIstirahat\n\n\n\n13:00 – 13:30\nPengumpulan hasil Uji Tulis (hard copy)\n\n\n\n13:30 – 16:00\nKegiatan Uji Praktik\, di TUK
URL:https://skpi.co.id/event/uji-sertifikasi-pembangkit-tenaga-listrik-23agustus2025/
LOCATION:Ujikom ketenagalistrikan Offline\, Jl. Menteng Raya No.29\, RT.1/RW.10\, Kb. Sirih\, Kec. Menteng\, Kota Jakarta Pusat\, Daerah Khusus Ibukota Jakarta 10410\, Jakarta\, Indonesia\, 10410\, Indonesia
CATEGORIES:pembangkit
ATTACH;FMTTYPE=image/png:https://skpi.co.id/wp-content/uploads/2025/08/uji-sertifikasi-pembangkit-ketenagalistrikan-23-agustus-2025-bosAi.png
ORGANIZER;CN="PT.%20SKPI":MAILTO:admin@skpi.co.id
END:VEVENT
END:VCALENDAR