BEGIN:VCALENDAR
VERSION:2.0
PRODID:-//Sertifikasi Kompetensi Profesionalis Indonesia - ECPv5.1.6//NONSGML v1.0//EN
CALSCALE:GREGORIAN
METHOD:PUBLISH
X-WR-CALNAME:Sertifikasi Kompetensi Profesionalis Indonesia
X-ORIGINAL-URL:https://skpi.co.id
X-WR-CALDESC:Events for Sertifikasi Kompetensi Profesionalis Indonesia
BEGIN:VTIMEZONE
TZID:Asia/Jakarta
BEGIN:STANDARD
TZOFFSETFROM:+0700
TZOFFSETTO:+0700
TZNAME:WIB
DTSTART:20250101T000000
END:STANDARD
END:VTIMEZONE
BEGIN:VEVENT
DTSTART;TZID=Asia/Jakarta:20250106T080000
DTEND;TZID=Asia/Jakarta:20250106T170000
DTSTAMP:20260420T033939
CREATED:20241223T132935Z
LAST-MODIFIED:20241223T132952Z
UID:4164-1736150400-1736182800@skpi.co.id
SUMMARY:UJI SERTIFIKASI PEMBANGKIT TENAGA LISTRIK 06januari2025
DESCRIPTION:Sertifikasi Ketenagalistrikan PEMBANGKIT Tenaga  Teknik Listrik  LSK PT.SKPI\nPT.SKPI akan mengadakan uji kompetensi sertifikasi ketenagalistrikan dengan cara Offline bidang Pembangkit\nketenagalistrikan Pembangkit tenaga Listrik\,\nSub bidang – Semua Sub Bidang di minggu ke 1  Januari 2025  ini. Dengan jumlah sertifikat akreditasi maksimal 25 sertifikat \, Minggu Pertama di tanggal 06 Januari 2025  \,untuk informasi bisa ditanyakan secara Langsung datang ke kantor kami atau Via Online dengan cara sebagai berikut : atau info pendaftaran untuk mengikuti event berikutnya Segera daftar di form ini atau menghubungi kontak tertera di gambar.\n \nHari / Tanggal : Senin / 06 Januari 2025\nTempat Uji : PT.SKPI\nJl. Menteng Raya No.29\, RT.1/RW.10\, Kb. Sirih\, Kec. Menteng\, Kota Jakarta Pusat 10410 \nSusunan Acara Kegiatan : \n\n\n\nSenin\, 06 Januari 2025\n\n\n\n08:00 –09:30\nPembukaan\,\n\n\n\n09:30 – 12:00\nKegiatan Uji Tulis\n\n\n\n12:00 – 13:00\nIstirahat\n\n\n\n13:00 – 13:30\nPengumpulan hasil Uji Tulis (hard copy)\n\n\n\n13:30 – 16:00\nKegiatan Uji Praktik\, di TUK
URL:https://skpi.co.id/event/uji-sertifikasi-pembangkit-tenaga-listrik-06januari2025/
LOCATION:Ujikom ketenagalistrikan Offline\, Jl. Menteng Raya No.29\, RT.1/RW.10\, Kb. Sirih\, Kec. Menteng\, Kota Jakarta Pusat\, Daerah Khusus Ibukota Jakarta 10410\, Jakarta\, Indonesia\, 10410\, Indonesia
CATEGORIES:pembangkit
ATTACH;FMTTYPE=image/png:https://skpi.co.id/wp-content/uploads/2024/12/sertifikasipembangkit06januari2025-bosAi.png
ORGANIZER;CN="PT.%20SKPI":MAILTO:admin@skpi.co.id
END:VEVENT
BEGIN:VEVENT
DTSTART;TZID=Asia/Jakarta:20250110T080000
DTEND;TZID=Asia/Jakarta:20250110T170000
DTSTAMP:20260420T033939
CREATED:20241224T071944Z
LAST-MODIFIED:20241224T071944Z
UID:4171-1736496000-1736528400@skpi.co.id
SUMMARY:UJI SERTIFIKASI TRANSMISI TENAGA LISTRIK 10januari2025
DESCRIPTION:Sertifikasi Ketenagalistrikan TRANSMISI Tenaga  Teknik Listrik  LSK PT.SKPI\nPT.SKPI akan mengadakan uji kompetensi sertifikasi ketenagalistrikan dengan cara Offline bidang Transmisi\nketenagalistrikan Transmisi tenaga Listrik\,\nSub bidang – Semua Sub Bidang di minggu ke 2 Januari 2025  ini. Dengan jumlah sertifikat akreditasi maksimal 25 sertifikat \, Minggu kedua di tanggal 10 Januari 2025  \,untuk informasi bisa ditanyakan secara Langsung datang ke kantor kami atau Via Online dengan cara sebagai berikut : atau info pendaftaran untuk mengikuti event berikutnya Segera daftar di form ini atau menghubungi kontak tertera di gambar.\n \nHari / Tanggal : Jumat / 10 Januari 2025 \nTempat Uji : PT.SKPI\nJl. Menteng Raya No.29\, RT.1/RW.10\, Kb. Sirih\, Kec. Menteng\, Kota Jakarta Pusat 10410 \nSusunan Acara Kegiatan : \n\n\n\nJumat\, 10 Januari 2025\n\n\n\n08:00 –09:30\nPembukaan\,\n\n\n\n09:30 – 12:00\nKegiatan Uji Tulis\n\n\n\n12:00 – 13:00\nIstirahat\n\n\n\n13:00 – 13:30\nPengumpulan hasil Uji Tulis (hard copy)\n\n\n\n13:30 – 16:00\nKegiatan Uji Praktik\, di TUK
URL:https://skpi.co.id/event/uji-sertifikasi-transmisi-tenaga-listrik-10januari2025/
LOCATION:Ujikom ketenagalistrikan Offline\, Jl. Menteng Raya No.29\, RT.1/RW.10\, Kb. Sirih\, Kec. Menteng\, Kota Jakarta Pusat\, Daerah Khusus Ibukota Jakarta 10410\, Jakarta\, Indonesia\, 10410\, Indonesia
CATEGORIES:transmisi
ATTACH;FMTTYPE=image/png:https://skpi.co.id/wp-content/uploads/2024/12/trans-10JANUARI2025-bosAi.png
ORGANIZER;CN="PT.%20SKPI":MAILTO:admin@skpi.co.id
END:VEVENT
BEGIN:VEVENT
DTSTART;TZID=Asia/Jakarta:20250111T080000
DTEND;TZID=Asia/Jakarta:20250111T170000
DTSTAMP:20260420T033939
CREATED:20241223T133345Z
LAST-MODIFIED:20241223T133345Z
UID:4168-1736582400-1736614800@skpi.co.id
SUMMARY:UJI SERTIFIKASI PEMANFAATAN TENAGA LISTRIK 11januari2025
DESCRIPTION:Sertifikasi Ketenagalistrikan PEMANFAATAN Tenaga  Teknik Listrik  LSK PT.SKPI\nPT.SKPI akan mengadakan uji kompetensi sertifikasi ketenagalistrikan dengan cara Offline bidang Pemanfaatan\nketenagalistrikan Pemanfaatan tenaga Listrik\,\nSub bidang – Semua Sub Bidang di minggu ke 2 Januari 2025  ini. Dengan jumlah sertifikat akreditasi maksimal 25 sertifikat \, Minggu Kedua tanggal 11 Januari 2025  \,untuk informasi bisa ditanyakan secara Langsung datang ke kantor kami atau Via Online dengan cara sebagai berikut : atau info pendaftaran untuk mengikuti event berikutnya Segera daftar di form ini atau menghubungi kontak tertera di gambar.\n \nHari / Tanggal : Sabtu/ 11 Januari 2025\nTempat Uji : PT.SKPI\nJl. Menteng Raya No.29\, RT.1/RW.10\, Kb. Sirih\, Kec. Menteng\, Kota Jakarta Pusat 10410 \nSusunan Acara Kegiatan : \n\n\n\nSabtu\, 11 Januari 2025\n\n\n\n08:00 –09:30\nPembukaan\,\n\n\n\n09:30 – 12:00\nKegiatan Uji Tulis\n\n\n\n12:00 – 13:00\nIstirahat\n\n\n\n13:00 – 13:30\nPengumpulan hasil Uji Tulis (hard copy)\n\n\n\n13:30 – 16:00\nKegiatan Uji Praktik\, di TUK
URL:https://skpi.co.id/event/uji-sertifikasi-pemanfaatan-tenaga-listrik-11januari2025/
LOCATION:Ujikom ketenagalistrikan Offline\, Jl. Menteng Raya No.29\, RT.1/RW.10\, Kb. Sirih\, Kec. Menteng\, Kota Jakarta Pusat\, Daerah Khusus Ibukota Jakarta 10410\, Jakarta\, Indonesia\, 10410\, Indonesia
CATEGORIES:pemanfaatan
ATTACH;FMTTYPE=image/png:https://skpi.co.id/wp-content/uploads/2024/12/11januari2025.png
ORGANIZER;CN="PT.%20SKPI":MAILTO:admin@skpi.co.id
END:VEVENT
BEGIN:VEVENT
DTSTART;TZID=Asia/Jakarta:20250115T080000
DTEND;TZID=Asia/Jakarta:20250115T170000
DTSTAMP:20260420T033939
CREATED:20250107T092805Z
LAST-MODIFIED:20250107T092805Z
UID:4177-1736928000-1736960400@skpi.co.id
SUMMARY:UJI SERTIFIKASI TRANSMISI TENAGA LISTRIK 15januari2025
DESCRIPTION:Sertifikasi Ketenagalistrikan TRANSMISI Tenaga  Teknik Listrik  LSK PT.SKPI\nPT.SKPI akan mengadakan uji kompetensi sertifikasi ketenagalistrikan dengan cara Offline bidang Transmisi\nketenagalistrikan Transmisi tenaga Listrik\,\nSub bidang – Semua Sub Bidang di minggu ke 2 Januari 2025  ini. Dengan jumlah sertifikat akreditasi maksimal 25 sertifikat \, Minggu kedua di tanggal 15 Januari 2025  \,untuk informasi bisa ditanyakan secara Langsung datang ke kantor kami atau Via Online dengan cara sebagai berikut : atau info pendaftaran untuk mengikuti event berikutnya Segera daftar di form ini atau menghubungi kontak tertera di gambar.\n \nHari / Tanggal : Rabu / 15 Januari 2025 \nTempat Uji : PT.SKPI\nJl. Menteng Raya No.29\, RT.1/RW.10\, Kb. Sirih\, Kec. Menteng\, Kota Jakarta Pusat 10410 \nSusunan Acara Kegiatan : \n\n\n\nRabu\, 15 Januari 2025\n\n\n\n08:00 –09:30\nPembukaan\,\n\n\n\n09:30 – 12:00\nKegiatan Uji Tulis\n\n\n\n12:00 – 13:00\nIstirahat\n\n\n\n13:00 – 13:30\nPengumpulan hasil Uji Tulis (hard copy)\n\n\n\n13:30 – 16:00\nKegiatan Uji Praktik\, di TUK
URL:https://skpi.co.id/event/uji-sertifikasi-transmisi-tenaga-listrik-15januari2025/
LOCATION:Ujikom ketenagalistrikan Offline\, Jl. Menteng Raya No.29\, RT.1/RW.10\, Kb. Sirih\, Kec. Menteng\, Kota Jakarta Pusat\, Daerah Khusus Ibukota Jakarta 10410\, Jakarta\, Indonesia\, 10410\, Indonesia
CATEGORIES:transmisi
ATTACH;FMTTYPE=image/png:https://skpi.co.id/wp-content/uploads/2025/01/trans-15januari2025-bosAi.png
ORGANIZER;CN="PT.%20SKPI":MAILTO:admin@skpi.co.id
END:VEVENT
BEGIN:VEVENT
DTSTART;TZID=Asia/Jakarta:20250118T080000
DTEND;TZID=Asia/Jakarta:20250118T170000
DTSTAMP:20260420T033939
CREATED:20250107T093207Z
LAST-MODIFIED:20250107T093207Z
UID:4180-1737187200-1737219600@skpi.co.id
SUMMARY:UJI SERTIFIKASI DISTRIBUSI TENAGA LISTRIK 18januari2025
DESCRIPTION:Sertifikasi Ketenagalistrikan DISTRIBUSI Tenaga  Teknik Listrik  LSK PT.SKPI\nPT.SKPI akan mengadakan uji kompetensi sertifikasi ketenagalistrikan dengan cara Offline bidang Distribusi\nketenagalistrikan Distribusi tenaga Listrik\,\nSub bidang – Semua Sub Bidang di minggu ke 3 januari 2025 ini. Dengan jumlah sertifikat akreditasi maksimal 25 sertifikat \, Minggu Ketiga di tanggal 18 januari 2025 \,untuk informasi bisa ditanyakan secara Langsung datang ke kantor kami atau Via Online dengan cara sebagai berikut : atau info pendaftaran untuk mengikuti event berikutnya Segera daftar di form ini atau menghubungi kontak tertera di gambar.\n \nHari / Tanggal : Sabtu / 18 januari 2025\nTempat Uji : PT.SKPI\nJl. Menteng Raya No.29\, RT.1/RW.10\, Kb. Sirih\, Kec. Menteng\, Kota Jakarta Pusat 10410 \nSusunan Acara Kegiatan : \n\n\n\nSabtu \, 18 januari 2025\n\n\n\n08:00 –09:30\nPembukaan\,\n\n\n\n09:30 – 12:00\nKegiatan Uji Tulis\n\n\n\n12:00 – 13:00\nIstirahat\n\n\n\n13:00 – 13:30\nPengumpulan hasil Uji Tulis (hard copy)\n\n\n\n13:30 – 16:00\nKegiatan Uji Praktik\, di TUK
URL:https://skpi.co.id/event/uji-sertifikasi-distribusi-tenaga-listrik-18januari2025/
LOCATION:Ujikom ketenagalistrikan Offline\, Jl. Menteng Raya No.29\, RT.1/RW.10\, Kb. Sirih\, Kec. Menteng\, Kota Jakarta Pusat\, Daerah Khusus Ibukota Jakarta 10410\, Jakarta\, Indonesia\, 10410\, Indonesia
CATEGORIES:distribusi
ATTACH;FMTTYPE=image/png:https://skpi.co.id/wp-content/uploads/2025/01/dist-18januari2025-bosAi.png
ORGANIZER;CN="PT.%20SKPI":MAILTO:admin@skpi.co.id
END:VEVENT
BEGIN:VEVENT
DTSTART;TZID=Asia/Jakarta:20250122T080000
DTEND;TZID=Asia/Jakarta:20250122T170000
DTSTAMP:20260420T033939
CREATED:20250109T042000Z
LAST-MODIFIED:20250109T042000Z
UID:4184-1737532800-1737565200@skpi.co.id
SUMMARY:UJI SERTIFIKASI PEMBANGKIT TENAGA LISTRIK 22januari2025
DESCRIPTION:Sertifikasi Ketenagalistrikan PEMBANGKIT Tenaga  Teknik Listrik  LSK PT.SKPI\nPT.SKPI akan mengadakan uji kompetensi sertifikasi ketenagalistrikan dengan cara Offline bidang Pembangkit\nketenagalistrikan Pembangkit tenaga Listrik\,\nSub bidang – Semua Sub Bidang di minggu ke 4  Januari 2025  ini. Dengan jumlah sertifikat akreditasi maksimal 25 sertifikat \, Minggu Keempat di tanggal 22 Januari 2025  \,untuk informasi bisa ditanyakan secara Langsung datang ke kantor kami atau Via Online dengan cara sebagai berikut : atau info pendaftaran untuk mengikuti event berikutnya Segera daftar di form ini atau menghubungi kontak tertera di gambar.\n \nHari / Tanggal : Rabu / 22 Januari 2025\nTempat Uji : PT.SKPI\nJl. Menteng Raya No.29\, RT.1/RW.10\, Kb. Sirih\, Kec. Menteng\, Kota Jakarta Pusat 10410 \nSusunan Acara Kegiatan : \n\n\n\nRabu\, 22 Januari 2025\n\n\n\n08:00 –09:30\nPembukaan\,\n\n\n\n09:30 – 12:00\nKegiatan Uji Tulis\n\n\n\n12:00 – 13:00\nIstirahat\n\n\n\n13:00 – 13:30\nPengumpulan hasil Uji Tulis (hard copy)\n\n\n\n13:30 – 16:00\nKegiatan Uji Praktik\, di TUK
URL:https://skpi.co.id/event/uji-sertifikasi-pembangkit-tenaga-listrik-22januari2025/
LOCATION:Ujikom ketenagalistrikan Offline\, Jl. Menteng Raya No.29\, RT.1/RW.10\, Kb. Sirih\, Kec. Menteng\, Kota Jakarta Pusat\, Daerah Khusus Ibukota Jakarta 10410\, Jakarta\, Indonesia\, 10410\, Indonesia
CATEGORIES:pembangkit
ATTACH;FMTTYPE=image/png:https://skpi.co.id/wp-content/uploads/2025/01/uji-sertifikasi-pembangkit-22-januari-2025-bosAi.png
ORGANIZER;CN="PT.%20SKPI":MAILTO:admin@skpi.co.id
END:VEVENT
BEGIN:VEVENT
DTSTART;TZID=Asia/Jakarta:20250125T080000
DTEND;TZID=Asia/Jakarta:20250125T170000
DTSTAMP:20260420T033939
CREATED:20250110T075335Z
LAST-MODIFIED:20250110T075335Z
UID:4187-1737792000-1737824400@skpi.co.id
SUMMARY:UJI SERTIFIKASI PEMANFAATAN TENAGA LISTRIK 25januari2025
DESCRIPTION:Sertifikasi Ketenagalistrikan PEMANFAATAN Tenaga  Teknik Listrik  LSK PT.SKPI\nPT.SKPI akan mengadakan uji kompetensi sertifikasi ketenagalistrikan dengan cara Offline bidang Pemanfaatan\nketenagalistrikan Pemanfaatan tenaga Listrik\,\nSub bidang – Semua Sub Bidang di minggu ke 4 Januari 2025  ini. Dengan jumlah sertifikat akreditasi maksimal 25 sertifikat \, Minggu Keempat tanggal 25 Januari 2025  \,untuk informasi bisa ditanyakan secara Langsung datang ke kantor kami atau Via Online dengan cara sebagai berikut : atau info pendaftaran untuk mengikuti event berikutnya Segera daftar di form ini atau menghubungi kontak tertera di gambar.\n \nHari / Tanggal : Sabtu/ 25 Januari 2025\nTempat Uji : PT.SKPI\nJl. Menteng Raya No.29\, RT.1/RW.10\, Kb. Sirih\, Kec. Menteng\, Kota Jakarta Pusat 10410 \nSusunan Acara Kegiatan : \n\n\n\nSabtu\, 25 Januari 2025\n\n\n\n08:00 –09:30\nPembukaan\,\n\n\n\n09:30 – 12:00\nKegiatan Uji Tulis\n\n\n\n12:00 – 13:00\nIstirahat\n\n\n\n13:00 – 13:30\nPengumpulan hasil Uji Tulis (hard copy)\n\n\n\n13:30 – 16:00\nKegiatan Uji Praktik\, di TUK
URL:https://skpi.co.id/event/uji-sertifikasi-pemanfaatan-tenaga-listrik-25januari2025/
LOCATION:Ujikom ketenagalistrikan Offline\, Jl. Menteng Raya No.29\, RT.1/RW.10\, Kb. Sirih\, Kec. Menteng\, Kota Jakarta Pusat\, Daerah Khusus Ibukota Jakarta 10410\, Jakarta\, Indonesia\, 10410\, Indonesia
CATEGORIES:pemanfaatan
ATTACH;FMTTYPE=image/png:https://skpi.co.id/wp-content/uploads/2025/01/iptl-25-januari-2025-bosAi.png
ORGANIZER;CN="PT.%20SKPI":MAILTO:admin@skpi.co.id
END:VEVENT
BEGIN:VEVENT
DTSTART;TZID=Asia/Jakarta:20250131T080000
DTEND;TZID=Asia/Jakarta:20250131T170000
DTSTAMP:20260420T033939
CREATED:20250115T131841Z
LAST-MODIFIED:20250115T131841Z
UID:4191-1738310400-1738342800@skpi.co.id
SUMMARY:UJI SERTIFIKASI PEMBANGKIT TENAGA LISTRIK 31 januari 2025
DESCRIPTION:Sertifikasi Ketenagalistrikan PEMBANGKIT Tenaga  Teknik Listrik  LSK PT.SKPI\nPT.SKPI akan mengadakan uji kompetensi sertifikasi ketenagalistrikan dengan cara Offline bidang Pembangkit\nketenagalistrikan Pembangkit tenaga Listrik\,\nSub bidang – Semua Sub Bidang di minggu ke 4  Januari 2025  ini. Dengan jumlah sertifikat akreditasi maksimal 25 sertifikat \, Minggu Keempat di tanggal 31 Januari 2025  \,untuk informasi bisa ditanyakan secara Langsung datang ke kantor kami atau Via Online dengan cara sebagai berikut : atau info pendaftaran untuk mengikuti event berikutnya Segera daftar di form ini atau menghubungi kontak tertera di gambar.\n \nHari / Tanggal : Jumat / 31 Januari 2025\nTempat Uji : PT.SKPI\nJl. Menteng Raya No.29\, RT.1/RW.10\, Kb. Sirih\, Kec. Menteng\, Kota Jakarta Pusat 10410 \nSusunan Acara Kegiatan : \n\n\n\nJumat \, 31 Januari 2025\n\n\n\n08:00 –09:30\nPembukaan\,\n\n\n\n09:30 – 12:00\nKegiatan Uji Tulis\n\n\n\n12:00 – 13:00\nIstirahat\n\n\n\n13:00 – 13:30\nPengumpulan hasil Uji Tulis (hard copy)\n\n\n\n13:30 – 16:00\nKegiatan Uji Praktik\, di TUK
URL:https://skpi.co.id/event/uji-sertifikasi-pembangkit-tenaga-listrik-31-januari-2025/
LOCATION:Ujikom ketenagalistrikan Offline\, Jl. Menteng Raya No.29\, RT.1/RW.10\, Kb. Sirih\, Kec. Menteng\, Kota Jakarta Pusat\, Daerah Khusus Ibukota Jakarta 10410\, Jakarta\, Indonesia\, 10410\, Indonesia
CATEGORIES:pembangkit
ATTACH;FMTTYPE=image/png:https://skpi.co.id/wp-content/uploads/2025/01/sertifikasi-pembangkit-31-januari-2025-bosAi.png
ORGANIZER;CN="PT.%20SKPI":MAILTO:admin@skpi.co.id
END:VEVENT
END:VCALENDAR