BEGIN:VCALENDAR
VERSION:2.0
PRODID:-//Sertifikasi Kompetensi Profesionalis Indonesia - ECPv5.1.6//NONSGML v1.0//EN
CALSCALE:GREGORIAN
METHOD:PUBLISH
X-WR-CALNAME:Sertifikasi Kompetensi Profesionalis Indonesia
X-ORIGINAL-URL:https://skpi.co.id
X-WR-CALDESC:Events for Sertifikasi Kompetensi Profesionalis Indonesia
BEGIN:VTIMEZONE
TZID:Asia/Jakarta
BEGIN:STANDARD
TZOFFSETFROM:+0700
TZOFFSETTO:+0700
TZNAME:WIB
DTSTART:20240101T000000
END:STANDARD
END:VTIMEZONE
BEGIN:VEVENT
DTSTART;TZID=Asia/Jakarta:20241126T080000
DTEND;TZID=Asia/Jakarta:20241126T170000
DTSTAMP:20260420T051507
CREATED:20241114T101619Z
LAST-MODIFIED:20241114T101619Z
UID:4118-1732608000-1732640400@skpi.co.id
SUMMARY:UJI SERTIFIKASI TRANSMISI TENAGA LISTRIK 26november2024
DESCRIPTION:Sertifikasi Ketenagalistrikan TRANSMISI Tenaga  Teknik Listrik  LSK PT.SKPI\nPT.SKPI akan mengadakan uji kompetensi sertifikasi ketenagalistrikan dengan cara Offline bidang Transmisi\nketenagalistrikan Transmisi tenaga Listrik\,\nSub bidang – Semua Sub Bidang di minggu ke 4 November 2024  ini. Dengan jumlah sertifikat akreditasi maksimal 25 sertifikat \, Minggu Keempat di tanggal 26 November 2024  \,untuk informasi bisa ditanyakan secara Langsung datang ke kantor kami atau Via Online dengan cara sebagai berikut : atau info pendaftaran untuk mengikuti event berikutnya Segera daftar di form ini atau menghubungi kontak tertera di gambar.\n \nHari / Tanggal : Selasa / 26 November 2024\nTempat Uji : PT.SKPI\nJl. Menteng Raya No.29\, RT.1/RW.10\, Kb. Sirih\, Kec. Menteng\, Kota Jakarta Pusat 10410 \nSusunan Acara Kegiatan : \n\n\n\nSelasa\, 26 November 2024\n\n\n\n08:00 –09:30\nPembukaan\,\n\n\n\n09:30 – 12:00\nKegiatan Uji Tulis\n\n\n\n12:00 – 13:00\nIstirahat\n\n\n\n13:00 – 13:30\nPengumpulan hasil Uji Tulis (hard copy)\n\n\n\n13:30 – 16:00\nKegiatan Uji Praktik\, di TUK
URL:https://skpi.co.id/event/uji-sertifikasi-transmisi-tenaga-listrik-26november2024/
LOCATION:Ujikom ketenagalistrikan Offline\, Jl. Menteng Raya No.29\, RT.1/RW.10\, Kb. Sirih\, Kec. Menteng\, Kota Jakarta Pusat\, Daerah Khusus Ibukota Jakarta 10410\, Jakarta\, Indonesia\, 10410\, Indonesia
CATEGORIES:transmisi
ATTACH;FMTTYPE=image/png:https://skpi.co.id/wp-content/uploads/2024/11/trans-26november2024-bosAi.png
ORGANIZER;CN="PT.%20SKPI":MAILTO:admin@skpi.co.id
END:VEVENT
BEGIN:VEVENT
DTSTART;TZID=Asia/Jakarta:20241128T080000
DTEND;TZID=Asia/Jakarta:20241128T170000
DTSTAMP:20260420T051507
CREATED:20241116T063222Z
LAST-MODIFIED:20241116T063222Z
UID:4121-1732780800-1732813200@skpi.co.id
SUMMARY:UJI SERTIFIKASI PEMANFAATAN TENAGA LISTRIK 28november2024
DESCRIPTION:Sertifikasi Ketenagalistrikan PEMANFAATAN Tenaga  Teknik Listrik  LSK PT.SKPI\nPT.SKPI akan mengadakan uji kompetensi sertifikasi ketenagalistrikan dengan cara Offline bidang Pemanfaatan\nketenagalistrikan Pemanfaatan tenaga Listrik\,\nSub bidang – Semua Sub Bidang di minggu ke 4 November 2024  ini. Dengan jumlah sertifikat akreditasi maksimal 25 sertifikat \, Minggu Keempat tanggal 28 November 2024  \,untuk informasi bisa ditanyakan secara Langsung datang ke kantor kami atau Via Online dengan cara sebagai berikut : atau info pendaftaran untuk mengikuti event berikutnya Segera daftar di form ini atau menghubungi kontak tertera di gambar.\n \nHari / Tanggal : Kamis / 28 November 2024\nTempat Uji : PT.SKPI\nJl. Menteng Raya No.29\, RT.1/RW.10\, Kb. Sirih\, Kec. Menteng\, Kota Jakarta Pusat 10410 \nSusunan Acara Kegiatan : \n\n\n\nKamis\, 28 November 2024\n\n\n\n08:00 –09:30\nPembukaan\,\n\n\n\n09:30 – 12:00\nKegiatan Uji Tulis\n\n\n\n12:00 – 13:00\nIstirahat\n\n\n\n13:00 – 13:30\nPengumpulan hasil Uji Tulis (hard copy)\n\n\n\n13:30 – 16:00\nKegiatan Uji Praktik\, di TUK
URL:https://skpi.co.id/event/uji-sertifikasi-pemanfaatan-tenaga-listrik-28november2024/
LOCATION:Ujikom ketenagalistrikan Offline\, Jl. Menteng Raya No.29\, RT.1/RW.10\, Kb. Sirih\, Kec. Menteng\, Kota Jakarta Pusat\, Daerah Khusus Ibukota Jakarta 10410\, Jakarta\, Indonesia\, 10410\, Indonesia
CATEGORIES:pemanfaatan
ATTACH;FMTTYPE=image/png:https://skpi.co.id/wp-content/uploads/2024/11/iptl-28-november.png
ORGANIZER;CN="PT.%20SKPI":MAILTO:admin@skpi.co.id
END:VEVENT
BEGIN:VEVENT
DTSTART;TZID=Asia/Jakarta:20241129T080000
DTEND;TZID=Asia/Jakarta:20241129T170000
DTSTAMP:20260420T051507
CREATED:20241120T031400Z
LAST-MODIFIED:20241120T031400Z
UID:4129-1732867200-1732899600@skpi.co.id
SUMMARY:UJI SERTIFIKASI PEMBANGKIT TENAGA LISTRIK 29november2024
DESCRIPTION:Sertifikasi Ketenagalistrikan PEMBANGKIT Tenaga  Teknik Listrik  LSK PT.SKPI\nPT.SKPI akan mengadakan uji kompetensi sertifikasi ketenagalistrikan dengan cara Offline bidang Pembangkit\nketenagalistrikan Pembangkit tenaga Listrik\,\nSub bidang – Semua Sub Bidang di minggu ke 4  november 2024  ini. Dengan jumlah sertifikat akreditasi maksimal 25 sertifikat \, Minggu Keempat di tanggal 29 november 2024  \,untuk informasi bisa ditanyakan secara Langsung datang ke kantor kami atau Via Online dengan cara sebagai berikut : atau info pendaftaran untuk mengikuti event berikutnya Segera daftar di form ini atau menghubungi kontak tertera di gambar.\n \nHari / Tanggal : Jumat / 29 november 2024\nTempat Uji : PT.SKPI\nJl. Menteng Raya No.29\, RT.1/RW.10\, Kb. Sirih\, Kec. Menteng\, Kota Jakarta Pusat 10410 \nSusunan Acara Kegiatan : \n\n\n\nJumat\, 29 november 2024\n\n\n\n08:00 –09:30\nPembukaan\,\n\n\n\n09:30 – 12:00\nKegiatan Uji Tulis\n\n\n\n12:00 – 13:00\nIstirahat\n\n\n\n13:00 – 13:30\nPengumpulan hasil Uji Tulis (hard copy)\n\n\n\n13:30 – 16:00\nKegiatan Uji Praktik\, di TUK
URL:https://skpi.co.id/event/uji-sertifikasi-pembangkit-tenaga-listrik-29november2024/
LOCATION:Ujikom ketenagalistrikan Offline\, Jl. Menteng Raya No.29\, RT.1/RW.10\, Kb. Sirih\, Kec. Menteng\, Kota Jakarta Pusat\, Daerah Khusus Ibukota Jakarta 10410\, Jakarta\, Indonesia\, 10410\, Indonesia
CATEGORIES:pembangkit
ATTACH;FMTTYPE=image/png:https://skpi.co.id/wp-content/uploads/2024/11/sertifikasipembangkit29NOVEMBER2024-bosAi.png
ORGANIZER;CN="PT.%20SKPI":MAILTO:admin@skpi.co.id
END:VEVENT
BEGIN:VEVENT
DTSTART;TZID=Asia/Jakarta:20241129T080000
DTEND;TZID=Asia/Jakarta:20241129T170000
DTSTAMP:20260420T051507
CREATED:20241129T072020Z
LAST-MODIFIED:20241129T072020Z
UID:4143-1732867200-1732899600@skpi.co.id
SUMMARY:UJI SERTIFIKASI DISTRIBUSI TENAGA LISTRIK 10desember2024
DESCRIPTION:Sertifikasi Ketenagalistrikan DISTRIBUSI Tenaga  Teknik Listrik  LSK PT.SKPI\nPT.SKPI akan mengadakan uji kompetensi sertifikasi ketenagalistrikan dengan cara Offline bidang Distribusi\nketenagalistrikan Distribusi tenaga Listrik\,\nSub bidang – Semua Sub Bidang di minggu ke 2 desember 2024  ini. Dengan jumlah sertifikat akreditasi maksimal 25 sertifikat \, Minggu Kedua di tanggal 10 desember 2024  \,untuk informasi bisa ditanyakan secara Langsung datang ke kantor kami atau Via Online dengan cara sebagai berikut : atau info pendaftaran untuk mengikuti event berikutnya Segera daftar di form ini atau menghubungi kontak tertera di gambar.\n \nHari / Tanggal : Selasa / 10 desember 2024\nTempat Uji : PT.SKPI\nJl. Menteng Raya No.29\, RT.1/RW.10\, Kb. Sirih\, Kec. Menteng\, Kota Jakarta Pusat 10410 \nSusunan Acara Kegiatan : \n\n\n\nSelasa\, 10 desember 2024\n\n\n\n08:00 –09:30\nPembukaan\,\n\n\n\n09:30 – 12:00\nKegiatan Uji Tulis\n\n\n\n12:00 – 13:00\nIstirahat\n\n\n\n13:00 – 13:30\nPengumpulan hasil Uji Tulis (hard copy)\n\n\n\n13:30 – 16:00\nKegiatan Uji Praktik\, di TUK
URL:https://skpi.co.id/event/uji-sertifikasi-distribusi-tenaga-listrik-10desember2024/
LOCATION:Ujikom ketenagalistrikan Offline\, Jl. Menteng Raya No.29\, RT.1/RW.10\, Kb. Sirih\, Kec. Menteng\, Kota Jakarta Pusat\, Daerah Khusus Ibukota Jakarta 10410\, Jakarta\, Indonesia\, 10410\, Indonesia
CATEGORIES:distribusi
ATTACH;FMTTYPE=image/png:https://skpi.co.id/wp-content/uploads/2024/11/offline-distribusi10desember2024-bos-ai.png
ORGANIZER;CN="PT.%20SKPI":MAILTO:admin@skpi.co.id
END:VEVENT
BEGIN:VEVENT
DTSTART;TZID=Asia/Jakarta:20241130T080000
DTEND;TZID=Asia/Jakarta:20241130T170000
DTSTAMP:20260420T051507
CREATED:20241119T103337Z
LAST-MODIFIED:20241119T103337Z
UID:4126-1732953600-1732986000@skpi.co.id
SUMMARY:UJI SERTIFIKASI DISTRIBUSI TENAGA LISTRIK 30november2024
DESCRIPTION:Sertifikasi Ketenagalistrikan DISTRIBUSI Tenaga  Teknik Listrik  LSK PT.SKPI\nPT.SKPI akan mengadakan uji kompetensi sertifikasi ketenagalistrikan dengan cara Offline bidang Distribusi\nketenagalistrikan Distribusi tenaga Listrik\,\nSub bidang – Semua Sub Bidang di minggu ke 4 november 2024  ini. Dengan jumlah sertifikat akreditasi maksimal 25 sertifikat \, Minggu Keempat di tanggal 30 november 2024  \,untuk informasi bisa ditanyakan secara Langsung datang ke kantor kami atau Via Online dengan cara sebagai berikut : atau info pendaftaran untuk mengikuti event berikutnya Segera daftar di form ini atau menghubungi kontak tertera di gambar.\n \nHari / Tanggal : Sabtu  / 30 november 2024\nTempat Uji : PT.SKPI\nJl. Menteng Raya No.29\, RT.1/RW.10\, Kb. Sirih\, Kec. Menteng\, Kota Jakarta Pusat 10410 \nSusunan Acara Kegiatan : \n\n\n\nSabtu\, 30 november 2024\n\n\n\n08:00 –09:30\nPembukaan\,\n\n\n\n09:30 – 12:00\nKegiatan Uji Tulis\n\n\n\n12:00 – 13:00\nIstirahat\n\n\n\n13:00 – 13:30\nPengumpulan hasil Uji Tulis (hard copy)\n\n\n\n13:30 – 16:00\nKegiatan Uji Praktik\, di TUK
URL:https://skpi.co.id/event/uji-sertifikasi-distribusi-tenaga-listrik-30november2024/
LOCATION:Ujikom ketenagalistrikan Offline\, Jl. Menteng Raya No.29\, RT.1/RW.10\, Kb. Sirih\, Kec. Menteng\, Kota Jakarta Pusat\, Daerah Khusus Ibukota Jakarta 10410\, Jakarta\, Indonesia\, 10410\, Indonesia
CATEGORIES:distribusi
ATTACH;FMTTYPE=image/png:https://skpi.co.id/wp-content/uploads/2024/11/distribusi-30-nov-bos-Ai.png
ORGANIZER;CN="PT.%20SKPI":MAILTO:admin@skpi.co.id
END:VEVENT
BEGIN:VEVENT
DTSTART;TZID=Asia/Jakarta:20241203T080000
DTEND;TZID=Asia/Jakarta:20241203T170000
DTSTAMP:20260420T051507
CREATED:20241123T070329Z
LAST-MODIFIED:20241123T070329Z
UID:4132-1733212800-1733245200@skpi.co.id
SUMMARY:UJI SERTIFIKASI PEMANFAATAN TENAGA LISTRIK 03desember2024
DESCRIPTION:Sertifikasi Ketenagalistrikan PEMANFAATAN Tenaga  Teknik Listrik  LSK PT.SKPI\nPT.SKPI akan mengadakan uji kompetensi sertifikasi ketenagalistrikan dengan cara Offline bidang Pemanfaatan\nketenagalistrikan Pemanfaatan tenaga Listrik\,\nSub bidang – Semua Sub Bidang di minggu ke 1 Desember 2024  ini. Dengan jumlah sertifikat akreditasi maksimal 25 sertifikat \, Minggu Pertama tanggal 03 Desember 2024  \,untuk informasi bisa ditanyakan secara Langsung datang ke kantor kami atau Via Online dengan cara sebagai berikut : atau info pendaftaran untuk mengikuti event berikutnya Segera daftar di form ini atau menghubungi kontak tertera di gambar.\n \nHari / Tanggal : Selasa / 03 Desember 2024\nTempat Uji : PT.SKPI\nJl. Menteng Raya No.29\, RT.1/RW.10\, Kb. Sirih\, Kec. Menteng\, Kota Jakarta Pusat 10410 \nSusunan Acara Kegiatan : \n\n\n\nSelasa\, 03 Desember 2024\n\n\n\n08:00 –09:30\nPembukaan\,\n\n\n\n09:30 – 12:00\nKegiatan Uji Tulis\n\n\n\n12:00 – 13:00\nIstirahat\n\n\n\n13:00 – 13:30\nPengumpulan hasil Uji Tulis (hard copy)\n\n\n\n13:30 – 16:00\nKegiatan Uji Praktik\, di TUK
URL:https://skpi.co.id/event/uji-sertifikasi-pemanfaatan-tenaga-listrik-03desember2024/
LOCATION:Ujikom ketenagalistrikan Offline\, Jl. Menteng Raya No.29\, RT.1/RW.10\, Kb. Sirih\, Kec. Menteng\, Kota Jakarta Pusat\, Daerah Khusus Ibukota Jakarta 10410\, Jakarta\, Indonesia\, 10410\, Indonesia
CATEGORIES:pemanfaatan
ATTACH;FMTTYPE=image/png:https://skpi.co.id/wp-content/uploads/2024/11/IPT-03-DESEMBER-2024-bosAi.png
ORGANIZER;CN="PT.%20SKPI":MAILTO:admin@skpi.co.id
END:VEVENT
BEGIN:VEVENT
DTSTART;TZID=Asia/Jakarta:20241206T080000
DTEND;TZID=Asia/Jakarta:20241206T170000
DTSTAMP:20260420T051507
CREATED:20241123T070853Z
LAST-MODIFIED:20241123T071249Z
UID:4135-1733472000-1733504400@skpi.co.id
SUMMARY:UJI SERTIFIKASI PEMBANGKIT TENAGA LISTRIK 06desember2024
DESCRIPTION:Sertifikasi Ketenagalistrikan PEMBANGKIT Tenaga  Teknik Listrik  LSK PT.SKPI\nPT.SKPI akan mengadakan uji kompetensi sertifikasi ketenagalistrikan dengan cara Offline bidang Pembangkit\nketenagalistrikan Pembangkit tenaga Listrik\,\nSub bidang – Semua Sub Bidang di minggu ke 1  november 2024  ini. Dengan jumlah sertifikat akreditasi maksimal 25 sertifikat \, Minggu Pertama di tanggal 06 desember 2024  \,untuk informasi bisa ditanyakan secara Langsung datang ke kantor kami atau Via Online dengan cara sebagai berikut : atau info pendaftaran untuk mengikuti event berikutnya Segera daftar di form ini atau menghubungi kontak tertera di gambar.\n \nHari / Tanggal : Jumat / 06 desember 2024\nTempat Uji : PT.SKPI\nJl. Menteng Raya No.29\, RT.1/RW.10\, Kb. Sirih\, Kec. Menteng\, Kota Jakarta Pusat 10410 \nSusunan Acara Kegiatan : \n\n\n\nJumat\, 06 desember 2024\n\n\n\n08:00 –09:30\nPembukaan\,\n\n\n\n09:30 – 12:00\nKegiatan Uji Tulis\n\n\n\n12:00 – 13:00\nIstirahat\n\n\n\n13:00 – 13:30\nPengumpulan hasil Uji Tulis (hard copy)\n\n\n\n13:30 – 16:00\nKegiatan Uji Praktik\, di TUK
URL:https://skpi.co.id/event/uji-sertifikasi-pembangkit-tenaga-listrik-06desember2024/
LOCATION:Ujikom ketenagalistrikan Offline\, Jl. Menteng Raya No.29\, RT.1/RW.10\, Kb. Sirih\, Kec. Menteng\, Kota Jakarta Pusat\, Daerah Khusus Ibukota Jakarta 10410\, Jakarta\, Indonesia\, 10410\, Indonesia
CATEGORIES:pembangkit
ATTACH;FMTTYPE=image/png:https://skpi.co.id/wp-content/uploads/2024/11/sertifikasipembangkit06DESEMBER2024-bosAi.png
ORGANIZER;CN="PT.%20SKPI":MAILTO:admin@skpi.co.id
END:VEVENT
BEGIN:VEVENT
DTSTART;TZID=Asia/Jakarta:20241207T080000
DTEND;TZID=Asia/Jakarta:20241207T170000
DTSTAMP:20260420T051507
CREATED:20241129T071612Z
LAST-MODIFIED:20241129T071612Z
UID:4140-1733558400-1733590800@skpi.co.id
SUMMARY:UJI SERTIFIKASI TRANSMISI TENAGA LISTRIK 07desember2024
DESCRIPTION:Sertifikasi Ketenagalistrikan TRANSMISI Tenaga  Teknik Listrik  LSK PT.SKPI\nPT.SKPI akan mengadakan uji kompetensi sertifikasi ketenagalistrikan dengan cara Offline bidang Transmisi\nketenagalistrikan Transmisi tenaga Listrik\,\nSub bidang – Semua Sub Bidang di minggu ke 1 Desember  2024  ini. Dengan jumlah sertifikat akreditasi maksimal 25 sertifikat \, Minggu pertama di tanggal 07 Desember 2024  \,untuk informasi bisa ditanyakan secara Langsung datang ke kantor kami atau Via Online dengan cara sebagai berikut : atau info pendaftaran untuk mengikuti event berikutnya Segera daftar di form ini atau menghubungi kontak tertera di gambar.\n \nHari / Tanggal : Sabtu / 07 Desember 2024 \nTempat Uji : PT.SKPI\nJl. Menteng Raya No.29\, RT.1/RW.10\, Kb. Sirih\, Kec. Menteng\, Kota Jakarta Pusat 10410 \nSusunan Acara Kegiatan : \n\n\n\nSabtu\, 07 Desember 2024\n\n\n\n08:00 –09:30\nPembukaan\,\n\n\n\n09:30 – 12:00\nKegiatan Uji Tulis\n\n\n\n12:00 – 13:00\nIstirahat\n\n\n\n13:00 – 13:30\nPengumpulan hasil Uji Tulis (hard copy)\n\n\n\n13:30 – 16:00\nKegiatan Uji Praktik\, di TUK
URL:https://skpi.co.id/event/uji-sertifikasi-transmisi-tenaga-listrik-07desember2024/
LOCATION:Ujikom ketenagalistrikan Offline\, Jl. Menteng Raya No.29\, RT.1/RW.10\, Kb. Sirih\, Kec. Menteng\, Kota Jakarta Pusat\, Daerah Khusus Ibukota Jakarta 10410\, Jakarta\, Indonesia\, 10410\, Indonesia
CATEGORIES:transmisi
ATTACH;FMTTYPE=image/png:https://skpi.co.id/wp-content/uploads/2024/11/trans-07desember2024-bosAi.png
ORGANIZER;CN="PT.%20SKPI":MAILTO:admin@skpi.co.id
END:VEVENT
BEGIN:VEVENT
DTSTART;TZID=Asia/Jakarta:20241212T080000
DTEND;TZID=Asia/Jakarta:20241212T170000
DTSTAMP:20260420T051507
CREATED:20241204T041030Z
LAST-MODIFIED:20241204T041129Z
UID:4146-1733990400-1734022800@skpi.co.id
SUMMARY:UJI SERTIFIKASI PEMBANGKIT TENAGA LISTRIK 12desember2024
DESCRIPTION:Sertifikasi Ketenagalistrikan PEMBANGKIT Tenaga  Teknik Listrik  LSK PT.SKPI\nPT.SKPI akan mengadakan uji kompetensi sertifikasi ketenagalistrikan dengan cara Offline bidang Pembangkit\nketenagalistrikan Pembangkit tenaga Listrik\,\nSub bidang – Semua Sub Bidang di minggu ke 2  desember 2024  ini. Dengan jumlah sertifikat akreditasi maksimal 25 sertifikat \, Minggu Kedua di tanggal 12 desember 2024  \,untuk informasi bisa ditanyakan secara Langsung datang ke kantor kami atau Via Online dengan cara sebagai berikut : atau info pendaftaran untuk mengikuti event berikutnya Segera daftar di form ini atau menghubungi kontak tertera di gambar.\n \nHari / Tanggal : Kamis / 12 desember 2024\nTempat Uji : PT.SKPI\nJl. Menteng Raya No.29\, RT.1/RW.10\, Kb. Sirih\, Kec. Menteng\, Kota Jakarta Pusat 10410 \nSusunan Acara Kegiatan : \n\n\n\nKamis\, 12 desember 2024\n\n\n\n08:00 –09:30\nPembukaan\,\n\n\n\n09:30 – 12:00\nKegiatan Uji Tulis\n\n\n\n12:00 – 13:00\nIstirahat\n\n\n\n13:00 – 13:30\nPengumpulan hasil Uji Tulis (hard copy)\n\n\n\n13:30 – 16:00\nKegiatan Uji Praktik\, di TUK
URL:https://skpi.co.id/event/uji-sertifikasi-pembangkit-tenaga-listrik-12desember2024/
LOCATION:Ujikom ketenagalistrikan Offline\, Jl. Menteng Raya No.29\, RT.1/RW.10\, Kb. Sirih\, Kec. Menteng\, Kota Jakarta Pusat\, Daerah Khusus Ibukota Jakarta 10410\, Jakarta\, Indonesia\, 10410\, Indonesia
CATEGORIES:pembangkit
ATTACH;FMTTYPE=image/png:https://skpi.co.id/wp-content/uploads/2024/12/sertifikasipembangkit12DESEMBER2024-bosAi.png
ORGANIZER;CN="PT.%20SKPI":MAILTO:admin@skpi.co.id
END:VEVENT
BEGIN:VEVENT
DTSTART;TZID=Asia/Jakarta:20241214T080000
DTEND;TZID=Asia/Jakarta:20241214T170000
DTSTAMP:20260420T051507
CREATED:20241204T041504Z
LAST-MODIFIED:20241204T041504Z
UID:4150-1734163200-1734195600@skpi.co.id
SUMMARY:UJI SERTIFIKASI TRANSMISI TENAGA LISTRIK 14desember2024
DESCRIPTION:Sertifikasi Ketenagalistrikan TRANSMISI Tenaga  Teknik Listrik  LSK PT.SKPI\nPT.SKPI akan mengadakan uji kompetensi sertifikasi ketenagalistrikan dengan cara Offline bidang Transmisi\nketenagalistrikan Transmisi tenaga Listrik\,\nSub bidang – Semua Sub Bidang di minggu ke 2 Desember  2024  ini. Dengan jumlah sertifikat akreditasi maksimal 25 sertifikat \, Minggu kedua di tanggal 14 Desember 2024  \,untuk informasi bisa ditanyakan secara Langsung datang ke kantor kami atau Via Online dengan cara sebagai berikut : atau info pendaftaran untuk mengikuti event berikutnya Segera daftar di form ini atau menghubungi kontak tertera di gambar.\n \nHari / Tanggal : Sabtu / 14 Desember 2024 \nTempat Uji : PT.SKPI\nJl. Menteng Raya No.29\, RT.1/RW.10\, Kb. Sirih\, Kec. Menteng\, Kota Jakarta Pusat 10410 \nSusunan Acara Kegiatan : \n\n\n\nSabtu\, 14 Desember 2024\n\n\n\n08:00 –09:30\nPembukaan\,\n\n\n\n09:30 – 12:00\nKegiatan Uji Tulis\n\n\n\n12:00 – 13:00\nIstirahat\n\n\n\n13:00 – 13:30\nPengumpulan hasil Uji Tulis (hard copy)\n\n\n\n13:30 – 16:00\nKegiatan Uji Praktik\, di TUK
URL:https://skpi.co.id/event/uji-sertifikasi-transmisi-tenaga-listrik-14desember2024/
LOCATION:Ujikom ketenagalistrikan Offline\, Jl. Menteng Raya No.29\, RT.1/RW.10\, Kb. Sirih\, Kec. Menteng\, Kota Jakarta Pusat\, Daerah Khusus Ibukota Jakarta 10410\, Jakarta\, Indonesia\, 10410\, Indonesia
CATEGORIES:transmisi
ATTACH;FMTTYPE=image/png:https://skpi.co.id/wp-content/uploads/2024/12/trans-14desember2024-bosAi.png
ORGANIZER;CN="PT.%20SKPI":MAILTO:admin@skpi.co.id
END:VEVENT
BEGIN:VEVENT
DTSTART;TZID=Asia/Jakarta:20241218T080000
DTEND;TZID=Asia/Jakarta:20241218T170000
DTSTAMP:20260420T051507
CREATED:20241206T084133Z
LAST-MODIFIED:20241206T084154Z
UID:4153-1734508800-1734541200@skpi.co.id
SUMMARY:UJI SERTIFIKASI PEMANFAATAN TENAGA LISTRIK 18desember2024
DESCRIPTION:Sertifikasi Ketenagalistrikan PEMANFAATAN Tenaga  Teknik Listrik  LSK PT.SKPI\nPT.SKPI akan mengadakan uji kompetensi sertifikasi ketenagalistrikan dengan cara Offline bidang Pemanfaatan\nketenagalistrikan Pemanfaatan tenaga Listrik\,\nSub bidang – Semua Sub Bidang di minggu ke 3 Desember 2024  ini. Dengan jumlah sertifikat akreditasi maksimal 25 sertifikat \, Minggu Ketiga tanggal 18 Desember 2024  \,untuk informasi bisa ditanyakan secara Langsung datang ke kantor kami atau Via Online dengan cara sebagai berikut : atau info pendaftaran untuk mengikuti event berikutnya Segera daftar di form ini atau menghubungi kontak tertera di gambar.\n \nHari / Tanggal : Rabu / 18 Desember 2024\nTempat Uji : PT.SKPI\nJl. Menteng Raya No.29\, RT.1/RW.10\, Kb. Sirih\, Kec. Menteng\, Kota Jakarta Pusat 10410 \nSusunan Acara Kegiatan : \n\n\n\nRabu\, 18 Desember 2024\n\n\n\n08:00 –09:30\nPembukaan\,\n\n\n\n09:30 – 12:00\nKegiatan Uji Tulis\n\n\n\n12:00 – 13:00\nIstirahat\n\n\n\n13:00 – 13:30\nPengumpulan hasil Uji Tulis (hard copy)\n\n\n\n13:30 – 16:00\nKegiatan Uji Praktik\, di TUK
URL:https://skpi.co.id/event/uji-sertifikasi-pemanfaatan-tenaga-listrik-18desember2024/
LOCATION:Ujikom ketenagalistrikan Offline\, Jl. Menteng Raya No.29\, RT.1/RW.10\, Kb. Sirih\, Kec. Menteng\, Kota Jakarta Pusat\, Daerah Khusus Ibukota Jakarta 10410\, Jakarta\, Indonesia\, 10410\, Indonesia
CATEGORIES:pemanfaatan
ATTACH;FMTTYPE=image/png:https://skpi.co.id/wp-content/uploads/2024/12/iptl-18-desember-2024.png
ORGANIZER;CN="PT.%20SKPI":MAILTO:admin@skpi.co.id
END:VEVENT
BEGIN:VEVENT
DTSTART;TZID=Asia/Jakarta:20241218T080000
DTEND;TZID=Asia/Jakarta:20241218T170000
DTSTAMP:20260420T051507
CREATED:20241206T084525Z
LAST-MODIFIED:20241206T084525Z
UID:4156-1734508800-1734541200@skpi.co.id
SUMMARY:UJI SERTIFIKASI DISTRIBUSI TENAGA LISTRIK 18desember2024
DESCRIPTION:Sertifikasi Ketenagalistrikan DISTRIBUSI Tenaga  Teknik Listrik  LSK PT.SKPI\nPT.SKPI akan mengadakan uji kompetensi sertifikasi ketenagalistrikan dengan cara Offline bidang Distribusi\nketenagalistrikan Distribusi tenaga Listrik\,\nSub bidang – Semua Sub Bidang di minggu ke 3 desember 2024  ini. Dengan jumlah sertifikat akreditasi maksimal 25 sertifikat \, Minggu Ketiga di tanggal 18 desember 2024  \,untuk informasi bisa ditanyakan secara Langsung datang ke kantor kami atau Via Online dengan cara sebagai berikut : atau info pendaftaran untuk mengikuti event berikutnya Segera daftar di form ini atau menghubungi kontak tertera di gambar.\n \nHari / Tanggal : Rabu / 18 desember 2024\nTempat Uji : PT.SKPI\nJl. Menteng Raya No.29\, RT.1/RW.10\, Kb. Sirih\, Kec. Menteng\, Kota Jakarta Pusat 10410 \nSusunan Acara Kegiatan : \n\n\n\nRabu\, 18 desember 2024\n\n\n\n08:00 –09:30\nPembukaan\,\n\n\n\n09:30 – 12:00\nKegiatan Uji Tulis\n\n\n\n12:00 – 13:00\nIstirahat\n\n\n\n13:00 – 13:30\nPengumpulan hasil Uji Tulis (hard copy)\n\n\n\n13:30 – 16:00\nKegiatan Uji Praktik\, di TUK
URL:https://skpi.co.id/event/uji-sertifikasi-distribusi-tenaga-listrik-18desember2024/
LOCATION:Ujikom ketenagalistrikan Offline\, Jl. Menteng Raya No.29\, RT.1/RW.10\, Kb. Sirih\, Kec. Menteng\, Kota Jakarta Pusat\, Daerah Khusus Ibukota Jakarta 10410\, Jakarta\, Indonesia\, 10410\, Indonesia
CATEGORIES:distribusi
ATTACH;FMTTYPE=image/png:https://skpi.co.id/wp-content/uploads/2024/12/offline-distribusi18desember2024-bos-ai.png
ORGANIZER;CN="PT.%20SKPI":MAILTO:admin@skpi.co.id
END:VEVENT
BEGIN:VEVENT
DTSTART;TZID=Asia/Jakarta:20241220T080000
DTEND;TZID=Asia/Jakarta:20241220T170000
DTSTAMP:20260420T051507
CREATED:20241209T075719Z
LAST-MODIFIED:20241209T075719Z
UID:4160-1734681600-1734714000@skpi.co.id
SUMMARY:UJI SERTIFIKASI PEMBANGKIT TENAGA LISTRIK 20desember2024
DESCRIPTION:Sertifikasi Ketenagalistrikan PEMBANGKIT Tenaga  Teknik Listrik  LSK PT.SKPI\nPT.SKPI akan mengadakan uji kompetensi sertifikasi ketenagalistrikan dengan cara Offline bidang Pembangkit\nketenagalistrikan Pembangkit tenaga Listrik\,\nSub bidang – Semua Sub Bidang di minggu ke 3  desember 2024  ini. Dengan jumlah sertifikat akreditasi maksimal 25 sertifikat \, Minggu Ketiga di tanggal 20 desember 2024  \,untuk informasi bisa ditanyakan secara Langsung datang ke kantor kami atau Via Online dengan cara sebagai berikut : atau info pendaftaran untuk mengikuti event berikutnya Segera daftar di form ini atau menghubungi kontak tertera di gambar.\n \nHari / Tanggal : Jumat / 20 desember 2024\nTempat Uji : PT.SKPI\nJl. Menteng Raya No.29\, RT.1/RW.10\, Kb. Sirih\, Kec. Menteng\, Kota Jakarta Pusat 10410 \nSusunan Acara Kegiatan : \n\n\n\nJumat\, 20 desember 2024\n\n\n\n08:00 –09:30\nPembukaan\,\n\n\n\n09:30 – 12:00\nKegiatan Uji Tulis\n\n\n\n12:00 – 13:00\nIstirahat\n\n\n\n13:00 – 13:30\nPengumpulan hasil Uji Tulis (hard copy)\n\n\n\n13:30 – 16:00\nKegiatan Uji Praktik\, di TUK
URL:https://skpi.co.id/event/uji-sertifikasi-pembangkit-tenaga-listrik-20desember2024/
LOCATION:Ujikom ketenagalistrikan Offline\, Jl. Menteng Raya No.29\, RT.1/RW.10\, Kb. Sirih\, Kec. Menteng\, Kota Jakarta Pusat\, Daerah Khusus Ibukota Jakarta 10410\, Jakarta\, Indonesia\, 10410\, Indonesia
CATEGORIES:pembangkit
ATTACH;FMTTYPE=image/png:https://skpi.co.id/wp-content/uploads/2024/12/sertifikasipembangkit20DESEMBER2024-bosAi.png
ORGANIZER;CN="PT.%20SKPI":MAILTO:admin@skpi.co.id
END:VEVENT
END:VCALENDAR