BEGIN:VCALENDAR
VERSION:2.0
PRODID:-//Sertifikasi Kompetensi Profesionalis Indonesia - ECPv5.1.6//NONSGML v1.0//EN
CALSCALE:GREGORIAN
METHOD:PUBLISH
X-WR-CALNAME:Sertifikasi Kompetensi Profesionalis Indonesia
X-ORIGINAL-URL:https://skpi.co.id
X-WR-CALDESC:Events for Sertifikasi Kompetensi Profesionalis Indonesia
BEGIN:VTIMEZONE
TZID:Asia/Jakarta
BEGIN:STANDARD
TZOFFSETFROM:+0700
TZOFFSETTO:+0700
TZNAME:WIB
DTSTART:20240101T000000
END:STANDARD
END:VTIMEZONE
BEGIN:VEVENT
DTSTART;TZID=Asia/Jakarta:20240831T080000
DTEND;TZID=Asia/Jakarta:20240901T170000
DTSTAMP:20260420T102132
CREATED:20240820T051213Z
LAST-MODIFIED:20240820T051213Z
UID:4002-1725091200-1725210000@skpi.co.id
SUMMARY:UJI SERTIFIKASI PEMANFAATAN TENAGA LISTRIK 31agustus2024
DESCRIPTION:Sertifikasi Ketenagalistrikan PEMANFAATAN Tenaga  Teknik Listrik  LSK PT.SKPI\nPT.SKPI akan mengadakan uji kompetensi sertifikasi ketenagalistrikan dengan cara Offline bidang Pemanfaatan\nketenagalistrikan Pemanfaatan tenaga Listrik\,\nSub bidang – Semua Sub Bidang di minggu ke 4 Agustus 2024  ini. Dengan jumlah sertifikat akreditasi maksimal 25 sertifikat \, Minggu Keempat di tanggal 31 Agustus 2024 sampai dengan 01 September 2024 \,untuk informasi bisa ditanyakan secara Langsung datang ke kantor kami atau Via Online dengan cara sebagai berikut : atau info pendaftaran untuk mengikuti event berikutnya Segera daftar di form ini atau menghubungi kontak tertera di gambar.\n \nHari / Tanggal : Sabtu–Minggu/ 31 Agustus – 01 September 2024\nTempat Uji : PT.SKPI\nJl. Menteng Raya No.29\, RT.1/RW.10\, Kb. Sirih\, Kec. Menteng\, Kota Jakarta Pusat 10410 \nSusunan Acara Kegiatan : \n  \n\n\n\nSabtu \, 31 Agustus 2024\n\n\n\n08:00 –09:30\nPembukaan\,\n\n\n\n09:30 – 12:00\nKegiatan Uji Tulis\n\n\n\n12:00 – 13:00\nIstirahat\n\n\n\n13:00 – 13:30\nPengumpulan hasil Uji Tulis (hard copy)\n\n\n\n13:30 – 16:00\nKegiatan Uji Praktik\, di TUK\n\n\n\nMinggu\, 01 September 2024\n\n\n\n08:00 –09:30\nmelanjutkan\, Kegiatan Uji Tulis\n\n\n\n09:30 – 12:00\nmelanjutkan Kegiatan Uji Tulis\n\n\n\n12:00 – 13:00\nIstirahat\n\n\n\n13:00 – 13:30\nPengumpulan hasil Uji Tulis (hard copy)\n\n\n\n13:30 – 16:00\nKegiatan Uji Praktik\, di TUK
URL:https://skpi.co.id/event/uji-sertifikasi-pemanfaatan-tenaga-listrik-31agustus2024/
LOCATION:Ujikom ketenagalistrikan Offline\, Jl. Menteng Raya No.29\, RT.1/RW.10\, Kb. Sirih\, Kec. Menteng\, Kota Jakarta Pusat\, Daerah Khusus Ibukota Jakarta 10410\, Jakarta\, Indonesia\, 10410\, Indonesia
CATEGORIES:pemanfaatan
ATTACH;FMTTYPE=image/png:https://skpi.co.id/wp-content/uploads/2024/08/iptl-31-agustus-bos-ai.png
ORGANIZER;CN="PT.%20SKPI":MAILTO:admin@skpi.co.id
END:VEVENT
BEGIN:VEVENT
DTSTART;TZID=Asia/Jakarta:20240831T080000
DTEND;TZID=Asia/Jakarta:20240901T170000
DTSTAMP:20260420T102132
CREATED:20240820T051628Z
LAST-MODIFIED:20240820T051628Z
UID:4006-1725091200-1725210000@skpi.co.id
SUMMARY:UJI SERTIFIKASI DISTRIBUSI TENAGA LISTRIK 31agustus2024
DESCRIPTION:Sertifikasi Ketenagalistrikan DISTRIBUSI Tenaga  Teknik Listrik  LSK PT.SKPI\nPT.SKPI akan mengadakan uji kompetensi sertifikasi ketenagalistrikan dengan cara online bidang Distribusi\nketenagalistrikan. Distribusi  Klien Pt.skpi Tenaga Listrik sub bidang – Semua Sub Bidang  di minggu ke 4  Agustus 2024 ini. Dengan jumlah sertifikat akreditasi 25 sertifikat. Minggu Keempat di tanggal 31 Agustus 2024 sampai dengan 01 September 2024.  \nUntuk informasi bisa ditanyakan secara Langsung datang ke kantor kami atau Via Online dengan cara sebagai berikut atau info pendaftaran untuk mengikuti event berikutnya Segera daftar di form ini atau menghubungi kontak tertera di gambar : \n \nHari / Tanggal : Sabtu–Minggu / 31 Agustus 2024 – 01 September 2024\nTempat Uji : Disesuaikan (Uji Online)\nSusunan Acara Kegiatan : \nSusunan Acara Kegiatan :\n  \n\n\n\nSabtu\, 31 Agustus 2024\n\n\n\n08:00 – 09:30\nPembukaan\, menggunakan Video Conference\n\n\n\n09:30 – 12:00\nKegiatan Uji Tulis (Soal akan dikirim ke masing-masing peserta)\n\n\n\n12:00 – 13:00\nIstirahat\n\n\n\n13:00 – 13:30\nPengumpulan hasil Uji Tulis (Format .pdf)\n\n\n\n13:30 – 16:00\nKegiatan Uji Praktik\, menggunakan Video Conference\n\n\n\n08:00 – 12:00\nMelanjutkan Kegiatan Uji praktik\n\n\n\n12:00 – 13:00\nIstirahat\n\n\n\n13:30 – 16:00\nMelanjutkan kegiatan uji praktek dan uji lisan\, menggunaka VC\n\n\n\n16:30 – Selesai\n Penutupan\n\n\n\nMinggu\, 01 September 2024\n\n\n\n08:00 – 09:30\n Melanjutkan  Kegiatan Uji Tulis (Soal akan dikirim ke masing-masing peserta)\n\n\n\n09:30 – 12:00\n Melanjutkan  Kegiatan Uji Tulis (Soal akan dikirim ke masing-masing peserta)\n\n\n\n12:00 – 13:00\nIstirahat\n\n\n\n13:00 – 13:30\nPengumpulan hasil Uji Tulis (Format .pdf)\n\n\n\n13:30 – 16:00\nKegiatan Uji Praktik\, menggunakan Video Conference\n\n\n\n08:00 – 12:00\nMelanjutkan Kegiatan Uji praktik\n\n\n\n12:00 – 13:00\nIstirahat\n\n\n\n13:30 – 16:00\nMelanjutkan kegiatan uji praktek dan uji lisan\, menggunaka VC\n\n\n\n16:30 – Selesai\n Penutupan
URL:https://skpi.co.id/event/uji-sertifikasi-distribusi-tenaga-listrik-31agustus2024/
LOCATION:Ujikom ketenagalistrikan Offline\, Jl. Menteng Raya No.29\, RT.1/RW.10\, Kb. Sirih\, Kec. Menteng\, Kota Jakarta Pusat\, Daerah Khusus Ibukota Jakarta 10410\, Jakarta\, Indonesia\, 10410\, Indonesia
CATEGORIES:distribusi
ATTACH;FMTTYPE=image/png:https://skpi.co.id/wp-content/uploads/2024/08/distribusi-31-bos-ai.png
ORGANIZER;CN="PT.%20SKPI":MAILTO:admin@skpi.co.id
END:VEVENT
BEGIN:VEVENT
DTSTART;TZID=Asia/Jakarta:20240831T080000
DTEND;TZID=Asia/Jakarta:20240901T170000
DTSTAMP:20260420T102132
CREATED:20240823T114512Z
LAST-MODIFIED:20240823T114512Z
UID:4009-1725091200-1725210000@skpi.co.id
SUMMARY:UJI SERTIFIKASI PEMBANGKIT TENAGA LISTRIK 31agustus2024
DESCRIPTION:Sertifikasi Ketenagalistrikan PEMBANGKIT Tenaga  Teknik Listrik  LSK PT.SKPI\nPT.SKPI akan mengadakan uji kompetensi sertifikasi ketenagalistrikan dengan cara Offline bidang Pembangkit\nketenagalistrikan Pembangkit tenaga Listrik\,\nSub bidang – Semua Sub Bidang di minggu ke 4 Agustus 2024  ini. Dengan jumlah sertifikat akreditasi maksimal 25 sertifikat \, Minggu keempat di tanggal 31 Agustus 2024 sampai dengan 01 September20242024 \,untuk informasi bisa ditanyakan secara Langsung datang ke kantor kami atau Via Online dengan cara sebagai berikut : atau info pendaftaran untuk mengikuti event berikutnya Segera daftar di form ini atau menghubungi kontak tertera di gambar.\n \nHari / Tanggal : Sabtu–Minggu / 31 Agustus – 01 September2024\nTempat Uji : PT.SKPI\nJl. Menteng Raya No.29\, RT.1/RW.10\, Kb. Sirih\, Kec. Menteng\, Kota Jakarta Pusat 10410 \nSusunan Acara Kegiatan : \n\n\n\nSabtu\, 31 Agustus 2024\n\n\n\n08:00 –09:30\nPembukaan\,\n\n\n\n09:30 – 12:00\nKegiatan Uji Tulis\n\n\n\n12:00 – 13:00\nIstirahat\n\n\n\n13:00 – 13:30\nPengumpulan hasil Uji Tulis (hard copy)\n\n\n\n13:30 – 16:00\nKegiatan Uji Praktik\, di TUK\n\n\n\nMinggu\, 01 September 2024\n\n\n\n08:00 –09:30\nmelanjutkan\, Kegiatan Uji Tulis\n\n\n\n09:30 – 12:00\nmelanjutkan Kegiatan Uji Tulis\n\n\n\n12:00 – 13:00\nIstirahat\n\n\n\n13:00 – 13:30\nPengumpulan hasil Uji Tulis (hard copy)\n\n\n\n13:30 – 16:00\nKegiatan Uji Praktik\, di TUK
URL:https://skpi.co.id/event/uji-sertifikasi-pembangkit-tenaga-listrik-31agustus2024/
LOCATION:Ujikom ketenagalistrikan Offline\, Jl. Menteng Raya No.29\, RT.1/RW.10\, Kb. Sirih\, Kec. Menteng\, Kota Jakarta Pusat\, Daerah Khusus Ibukota Jakarta 10410\, Jakarta\, Indonesia\, 10410\, Indonesia
CATEGORIES:pembangkit
ATTACH;FMTTYPE=image/png:https://skpi.co.id/wp-content/uploads/2024/08/31agust-bosAi.png
ORGANIZER;CN="PT.%20SKPI":MAILTO:admin@skpi.co.id
END:VEVENT
BEGIN:VEVENT
DTSTART;TZID=Asia/Jakarta:20240904T080000
DTEND;TZID=Asia/Jakarta:20240905T170000
DTSTAMP:20260420T102132
CREATED:20240823T114930Z
LAST-MODIFIED:20240823T124729Z
UID:4012-1725436800-1725555600@skpi.co.id
SUMMARY:UJI SERTIFIKASI DISTRIBUSI TENAGA LISTRIK 04-05septembers2024
DESCRIPTION:Sertifikasi Ketenagalistrikan DISTRIBUSI Tenaga  Teknik Listrik  LSK PT.SKPI\nPT.SKPI akan mengadakan uji kompetensi sertifikasi ketenagalistrikan dengan cara Offline bidang Distribusi\nketenagalistrikan Distribusi tenaga Listrik\,\nSub bidang – Semua Sub Bidang di minggu ke 1 September 2024  ini. Dengan jumlah sertifikat akreditasi maksimal 25 sertifikat \, Minggu Pertama di tanggal 04 September 2024 sampai dengan 05 September 2024 \,untuk informasi bisa ditanyakan secara Langsung datang ke kantor kami atau Via Online dengan cara sebagai berikut : atau info pendaftaran untuk mengikuti event berikutnya Segera daftar di form ini atau menghubungi kontak tertera di gambar.\n \nHari / Tanggal : Rabu–Kamis/ 04 – 05 September 2024\nTempat Uji : PT.SKPI\nJl. Menteng Raya No.29\, RT.1/RW.10\, Kb. Sirih\, Kec. Menteng\, Kota Jakarta Pusat 10410 \nSusunan Acara Kegiatan : \n  \n\n\n\nRabu\, 04 september 2024\n\n\n\n08:00 –09:30\nPembukaan\,\n\n\n\n09:30 – 12:00\nKegiatan Uji Tulis\n\n\n\n12:00 – 13:00\nIstirahat\n\n\n\n13:00 – 13:30\nPengumpulan hasil Uji Tulis (hard copy)\n\n\n\n13:30 – 16:00\nKegiatan Uji Praktik\, di TUK\n\n\n\nKamis\, 05 september 2024\n\n\n\n08:00 –09:30\nmelanjutkan\, Kegiatan Uji Tulis\n\n\n\n09:30 – 12:00\nmelanjutkan Kegiatan Uji Tulis\n\n\n\n12:00 – 13:00\nIstirahat\n\n\n\n13:00 – 13:30\nPengumpulan hasil Uji Tulis (hard copy)\n\n\n\n13:30 – 16:00\nKegiatan Uji Praktik\, di TUK
URL:https://skpi.co.id/event/uji-sertifikasi-distribusi-tenaga-listrik-04-05septembers2024/
LOCATION:Ujikom ketenagalistrikan Offline\, Jl. Menteng Raya No.29\, RT.1/RW.10\, Kb. Sirih\, Kec. Menteng\, Kota Jakarta Pusat\, Daerah Khusus Ibukota Jakarta 10410\, Jakarta\, Indonesia\, 10410\, Indonesia
CATEGORIES:distribusi
ATTACH;FMTTYPE=image/png:https://skpi.co.id/wp-content/uploads/2024/08/4septembdistribusi-bosAi.png
ORGANIZER;CN="PT.%20SKPI":MAILTO:admin@skpi.co.id
END:VEVENT
BEGIN:VEVENT
DTSTART;TZID=Asia/Jakarta:20240907T080000
DTEND;TZID=Asia/Jakarta:20240908T170000
DTSTAMP:20260420T102132
CREATED:20240823T115524Z
LAST-MODIFIED:20240823T115524Z
UID:4015-1725696000-1725814800@skpi.co.id
SUMMARY:UJI SERTIFIKASI PEMBANGKIT TENAGA LISTRIK 07-08september2024
DESCRIPTION:Sertifikasi Ketenagalistrikan PEMBANGKIT Tenaga  Teknik Listrik  LSK PT.SKPI\nPT.SKPI akan mengadakan uji kompetensi sertifikasi ketenagalistrikan dengan cara Offline bidang Pembangkit\nketenagalistrikan Pembangkit tenaga Listrik\,\nSub bidang – Semua Sub Bidang di minggu ke 1 September 2024  ini. Dengan jumlah sertifikat akreditasi maksimal 25 sertifikat \, Minggu Pertama di tanggal 07  September 2024 sampai dengan 08 September 2024 \,untuk informasi bisa ditanyakan secara Langsung datang ke kantor kami atau Via Online dengan cara sebagai berikut : atau info pendaftaran untuk mengikuti event berikutnya Segera daftar di form ini atau menghubungi kontak tertera di gambar.\n \nHari / Tanggal : Sabtu–Minggu/ 07 – 08 September 2024\nTempat Uji : PT.SKPI\nJl. Menteng Raya No.29\, RT.1/RW.10\, Kb. Sirih\, Kec. Menteng\, Kota Jakarta Pusat 10410 \nSusunan Acara Kegiatan : \n  \n\n\n\nSabtu\, 07 september 2024\n\n\n\n08:00 –09:30\nPembukaan\,\n\n\n\n09:30 – 12:00\nKegiatan Uji Tulis\n\n\n\n12:00 – 13:00\nIstirahat\n\n\n\n13:00 – 13:30\nPengumpulan hasil Uji Tulis (hard copy)\n\n\n\n13:30 – 16:00\nKegiatan Uji Praktik\, di TUK\n\n\n\nMinggu\, 08 september 2024\n\n\n\n08:00 –09:30\nmelanjutkan\, Kegiatan Uji Tulis\n\n\n\n09:30 – 12:00\nmelanjutkan Kegiatan Uji Tulis\n\n\n\n12:00 – 13:00\nIstirahat\n\n\n\n13:00 – 13:30\nPengumpulan hasil Uji Tulis (hard copy)\n\n\n\n13:30 – 16:00\nKegiatan Uji Praktik\, di TUK
URL:https://skpi.co.id/event/uji-sertifikasi-pembangkit-tenaga-listrik-07-08september2024/
LOCATION:Ujikom ketenagalistrikan Offline\, Jl. Menteng Raya No.29\, RT.1/RW.10\, Kb. Sirih\, Kec. Menteng\, Kota Jakarta Pusat\, Daerah Khusus Ibukota Jakarta 10410\, Jakarta\, Indonesia\, 10410\, Indonesia
CATEGORIES:pembangkit
ATTACH;FMTTYPE=image/png:https://skpi.co.id/wp-content/uploads/2024/08/7september-bosAi.png
ORGANIZER;CN="PT.%20SKPI":MAILTO:admin@skpi.co.id
END:VEVENT
BEGIN:VEVENT
DTSTART;TZID=Asia/Jakarta:20240918T080000
DTEND;TZID=Asia/Jakarta:20240919T170000
DTSTAMP:20260420T102132
CREATED:20240910T031640Z
LAST-MODIFIED:20240910T032119Z
UID:4022-1726646400-1726765200@skpi.co.id
SUMMARY:UJI SERTIFIKASI PEMBANGKIT TENAGA LISTRIK 18september2024
DESCRIPTION:Sertifikasi Ketenagalistrikan PEMBANGKIT Tenaga  Teknik Listrik  LSK PT.SKPI\nPT.SKPI akan mengadakan uji kompetensi sertifikasi ketenagalistrikan dengan cara Offline bidang Pembangkit\nketenagalistrikan Pembangkit tenaga Listrik\,\nSub bidang – Semua Sub Bidang di minggu ke 3 September 2024  ini. Dengan jumlah sertifikat akreditasi maksimal 25 sertifikat \, Minggu Ketiga di tanggal 18  September 2024 sampai dengan 19 September 2024 \,untuk informasi bisa ditanyakan secara Langsung datang ke kantor kami atau Via Online dengan cara sebagai berikut : atau info pendaftaran untuk mengikuti event berikutnya Segera daftar di form ini atau menghubungi kontak tertera di gambar.\n \nHari / Tanggal : Rabu–kamis / 18 – 19 September 2024\nTempat Uji : PT.SKPI\nJl. Menteng Raya No.29\, RT.1/RW.10\, Kb. Sirih\, Kec. Menteng\, Kota Jakarta Pusat 10410 \nSusunan Acara Kegiatan : \n  \n\n\n\nRabu\, 18 september 2024\n\n\n\n08:00 –09:30\nPembukaan\,\n\n\n\n09:30 – 12:00\nKegiatan Uji Tulis\n\n\n\n12:00 – 13:00\nIstirahat\n\n\n\n13:00 – 13:30\nPengumpulan hasil Uji Tulis (hard copy)\n\n\n\n13:30 – 16:00\nKegiatan Uji Praktik\, di TUK\n\n\n\nKamis\, 19 september 2024\n\n\n\n08:00 –09:30\nmelanjutkan\, Kegiatan Uji Tulis\n\n\n\n09:30 – 12:00\nmelanjutkan Kegiatan Uji Tulis\n\n\n\n12:00 – 13:00\nIstirahat\n\n\n\n13:00 – 13:30\nPengumpulan hasil Uji Tulis (hard copy)\n\n\n\n13:30 – 16:00\nKegiatan Uji Praktik\, di TUK
URL:https://skpi.co.id/event/uji-sertifikasi-pembangkit-tenaga-listrik-18september2024/
LOCATION:Ujikom ketenagalistrikan Offline\, Jl. Menteng Raya No.29\, RT.1/RW.10\, Kb. Sirih\, Kec. Menteng\, Kota Jakarta Pusat\, Daerah Khusus Ibukota Jakarta 10410\, Jakarta\, Indonesia\, 10410\, Indonesia
CATEGORIES:pembangkit
ATTACH;FMTTYPE=image/png:https://skpi.co.id/wp-content/uploads/2024/09/kit-18-september-ai.png
ORGANIZER;CN="PT.%20SKPI":MAILTO:admin@skpi.co.id
END:VEVENT
BEGIN:VEVENT
DTSTART;TZID=Asia/Jakarta:20240918T080000
DTEND;TZID=Asia/Jakarta:20240919T170000
DTSTAMP:20260420T102132
CREATED:20240910T032051Z
LAST-MODIFIED:20240910T032051Z
UID:4025-1726646400-1726765200@skpi.co.id
SUMMARY:UJI SERTIFIKASI PEMANFAATAN TENAGA LISTRIK 18september2024
DESCRIPTION:Sertifikasi Ketenagalistrikan PEMANFAATAN Tenaga  Teknik Listrik  LSK PT.SKPI\nPT.SKPI akan mengadakan uji kompetensi sertifikasi ketenagalistrikan dengan cara Offline bidang Pemanfaatan\nketenagalistrikan Pemanfaatan tenaga Listrik\,\nSub bidang – Semua Sub Bidang di minggu ke 3 September 2024  ini. Dengan jumlah sertifikat akreditasi maksimal 25 sertifikat \, Minggu Ketiga di tanggal 18 September  2024 sampai dengan 19 September 2024 \,untuk informasi bisa ditanyakan secara Langsung datang ke kantor kami atau Via Online dengan cara sebagai berikut : atau info pendaftaran untuk mengikuti event berikutnya Segera daftar di form ini atau menghubungi kontak tertera di gambar.\n \nHari / Tanggal : Rabu–Kamis / 18 September – 19 September 2024\nTempat Uji : PT.SKPI\nJl. Menteng Raya No.29\, RT.1/RW.10\, Kb. Sirih\, Kec. Menteng\, Kota Jakarta Pusat 10410 \nSusunan Acara Kegiatan : \n  \n\n\n\nRabu\, 18 September 2024\n\n\n\n08:00 –09:30\nPembukaan\,\n\n\n\n09:30 – 12:00\nKegiatan Uji Tulis\n\n\n\n12:00 – 13:00\nIstirahat\n\n\n\n13:00 – 13:30\nPengumpulan hasil Uji Tulis (hard copy)\n\n\n\n13:30 – 16:00\nKegiatan Uji Praktik\, di TUK\n\n\n\nKamis\, 19 September 2024\n\n\n\n08:00 –09:30\nmelanjutkan\, Kegiatan Uji Tulis\n\n\n\n09:30 – 12:00\nmelanjutkan Kegiatan Uji Tulis\n\n\n\n12:00 – 13:00\nIstirahat\n\n\n\n13:00 – 13:30\nPengumpulan hasil Uji Tulis (hard copy)\n\n\n\n13:30 – 16:00\nKegiatan Uji Praktik\, di TUK
URL:https://skpi.co.id/event/uji-sertifikasi-pemanfaatan-tenaga-listrik-18september2024/
LOCATION:Ujikom ketenagalistrikan Offline\, Jl. Menteng Raya No.29\, RT.1/RW.10\, Kb. Sirih\, Kec. Menteng\, Kota Jakarta Pusat\, Daerah Khusus Ibukota Jakarta 10410\, Jakarta\, Indonesia\, 10410\, Indonesia
CATEGORIES:pemanfaatan
ATTACH;FMTTYPE=image/png:https://skpi.co.id/wp-content/uploads/2024/09/iptl-18-september-2024.png
ORGANIZER;CN="PT.%20SKPI":MAILTO:admin@skpi.co.id
END:VEVENT
BEGIN:VEVENT
DTSTART;TZID=Asia/Jakarta:20240921T080000
DTEND;TZID=Asia/Jakarta:20240922T170000
DTSTAMP:20260420T102132
CREATED:20240912T032326Z
LAST-MODIFIED:20240912T032326Z
UID:4036-1726905600-1727024400@skpi.co.id
SUMMARY:UJI SERTIFIKASI PEMBANGKIT TENAGA LISTRIK 21september2024
DESCRIPTION:Sertifikasi Ketenagalistrikan PEMBANGKIT Tenaga  Teknik Listrik  LSK PT.SKPI\nPT.SKPI akan mengadakan uji kompetensi sertifikasi ketenagalistrikan dengan cara Offline bidang Pembangkit\nketenagalistrikan Pembangkit tenaga Listrik\,\nSub bidang – Semua Sub Bidang di minggu ke 3 September 2024  ini. Dengan jumlah sertifikat akreditasi maksimal 25 sertifikat \, Minggu ketiga di tanggal 21  September 2024 sampai dengan 22 September 2024 \,untuk informasi bisa ditanyakan secara Langsung datang ke kantor kami atau Via Online dengan cara sebagai berikut : atau info pendaftaran untuk mengikuti event berikutnya Segera daftar di form ini atau menghubungi kontak tertera di gambar.\n \nHari / Tanggal : Sabtu–Minggu / 21 – 22 September 2024\nTempat Uji : PT.SKPI\nJl. Menteng Raya No.29\, RT.1/RW.10\, Kb. Sirih\, Kec. Menteng\, Kota Jakarta Pusat 10410 \nSusunan Acara Kegiatan : \n  \n\n\n\nSabtu\, 21 september 2024\n\n\n\n08:00 –09:30\nPembukaan\,\n\n\n\n09:30 – 12:00\nKegiatan Uji Tulis\n\n\n\n12:00 – 13:00\nIstirahat\n\n\n\n13:00 – 13:30\nPengumpulan hasil Uji Tulis (hard copy)\n\n\n\n13:30 – 16:00\nKegiatan Uji Praktik\, di TUK\n\n\n\nMinggu\, 22 september 2024\n\n\n\n08:00 –09:30\nmelanjutkan\, Kegiatan Uji Tulis\n\n\n\n09:30 – 12:00\nmelanjutkan Kegiatan Uji Tulis\n\n\n\n12:00 – 13:00\nIstirahat\n\n\n\n13:00 – 13:30\nPengumpulan hasil Uji Tulis (hard copy)\n\n\n\n13:30 – 16:00\nKegiatan Uji Praktik\, di TUK
URL:https://skpi.co.id/event/uji-sertifikasi-pembangkit-tenaga-listrik-21september2024/
LOCATION:Ujikom ketenagalistrikan Offline\, Jl. Menteng Raya No.29\, RT.1/RW.10\, Kb. Sirih\, Kec. Menteng\, Kota Jakarta Pusat\, Daerah Khusus Ibukota Jakarta 10410\, Jakarta\, Indonesia\, 10410\, Indonesia
CATEGORIES:pembangkit
ATTACH;FMTTYPE=image/png:https://skpi.co.id/wp-content/uploads/2024/09/21septemb-bosAi.png
ORGANIZER;CN="PT.%20SKPI":MAILTO:admin@skpi.co.id
END:VEVENT
BEGIN:VEVENT
DTSTART;TZID=Asia/Jakarta:20240925T080000
DTEND;TZID=Asia/Jakarta:20240926T170000
DTSTAMP:20260420T102132
CREATED:20240917T043756Z
LAST-MODIFIED:20240917T044207Z
UID:4039-1727251200-1727370000@skpi.co.id
SUMMARY:UJI SERTIFIKASI PEMBANGKIT TENAGA LISTRIK 25september2024
DESCRIPTION:Sertifikasi Ketenagalistrikan PEMBANGKIT Tenaga  Teknik Listrik  LSK PT.SKPI\nPT.SKPI akan mengadakan uji kompetensi sertifikasi ketenagalistrikan dengan cara Offline bidang Pembangkit\nketenagalistrikan Pembangkit tenaga Listrik\,\nSub bidang – Semua Sub Bidang di minggu ke 4 September 2024  ini. Dengan jumlah sertifikat akreditasi maksimal 25 sertifikat \, Minggu keempat di tanggal 25  September 2024 sampai dengan 26 September 2024 \,untuk informasi bisa ditanyakan secara Langsung datang ke kantor kami atau Via Online dengan cara sebagai berikut : atau info pendaftaran untuk mengikuti event berikutnya Segera daftar di form ini atau menghubungi kontak tertera di gambar.\n \nHari / Tanggal : Rabu–Kamis / 25 – 26 September 2024\nTempat Uji : PT.SKPI\nJl. Menteng Raya No.29\, RT.1/RW.10\, Kb. Sirih\, Kec. Menteng\, Kota Jakarta Pusat 10410 \nSusunan Acara Kegiatan : \n  \n\n\n\nRabu\, 25 september 2024\n\n\n\n08:00 –09:30\nPembukaan\,\n\n\n\n09:30 – 12:00\nKegiatan Uji Tulis\n\n\n\n12:00 – 13:00\nIstirahat\n\n\n\n13:00 – 13:30\nPengumpulan hasil Uji Tulis (hard copy)\n\n\n\n13:30 – 16:00\nKegiatan Uji Praktik\, di TUK\n\n\n\nKamis\, 26 september 2024\n\n\n\n08:00 –09:30\nmelanjutkan\, Kegiatan Uji Tulis\n\n\n\n09:30 – 12:00\nmelanjutkan Kegiatan Uji Tulis\n\n\n\n12:00 – 13:00\nIstirahat\n\n\n\n13:00 – 13:30\nPengumpulan hasil Uji Tulis (hard copy)\n\n\n\n13:30 – 16:00\nKegiatan Uji Praktik\, di TUK
URL:https://skpi.co.id/event/uji-sertifikasi-pembangkit-tenaga-listrik-25september2024/
LOCATION:Ujikom ketenagalistrikan Offline\, Jl. Menteng Raya No.29\, RT.1/RW.10\, Kb. Sirih\, Kec. Menteng\, Kota Jakarta Pusat\, Daerah Khusus Ibukota Jakarta 10410\, Jakarta\, Indonesia\, 10410\, Indonesia
CATEGORIES:pembangkit
ATTACH;FMTTYPE=image/png:https://skpi.co.id/wp-content/uploads/2024/09/kit-25-bosAi.png
ORGANIZER;CN="PT.%20SKPI":MAILTO:admin@skpi.co.id
END:VEVENT
BEGIN:VEVENT
DTSTART;TZID=Asia/Jakarta:20240926T080000
DTEND;TZID=Asia/Jakarta:20240927T170000
DTSTAMP:20260420T102132
CREATED:20240919T041113Z
LAST-MODIFIED:20240919T041113Z
UID:4050-1727337600-1727456400@skpi.co.id
SUMMARY:UJI SERTIFIKASI DISTRIBUSI TENAGA LISTRIK 26september2024
DESCRIPTION:Sertifikasi Ketenagalistrikan DISTRIBUSI Tenaga  Teknik Listrik  LSK PT.SKPI\nPT.SKPI akan mengadakan uji kompetensi sertifikasi ketenagalistrikan dengan cara Offline bidang Distribusi\nketenagalistrikan Distribusi tenaga Listrik\,\nSub bidang – Semua Sub Bidang di minggu ke 4 September 2024  ini. Dengan jumlah sertifikat akreditasi maksimal 25 sertifikat \, Minggu Keempat di tanggal 26 September 2024 sampai dengan 27 September 2024 \,untuk informasi bisa ditanyakan secara Langsung datang ke kantor kami atau Via Online dengan cara sebagai berikut : atau info pendaftaran untuk mengikuti event berikutnya Segera daftar di form ini atau menghubungi kontak tertera di gambar.\n \nHari / Tanggal : Kamis–Jumat / 26- 27 September 2024\nTempat Uji : PT.SKPI\nJl. Menteng Raya No.29\, RT.1/RW.10\, Kb. Sirih\, Kec. Menteng\, Kota Jakarta Pusat 10410 \nSusunan Acara Kegiatan : \n  \n\n\n\nKamis\, 26 september 2024\n\n\n\n08:00 –09:30\nPembukaan\,\n\n\n\n09:30 – 12:00\nKegiatan Uji Tulis\n\n\n\n12:00 – 13:00\nIstirahat\n\n\n\n13:00 – 13:30\nPengumpulan hasil Uji Tulis (hard copy)\n\n\n\n13:30 – 16:00\nKegiatan Uji Praktik\, di TUK\n\n\n\nJumat\, 27 september 2024\n\n\n\n08:00 –09:30\nmelanjutkan\, Kegiatan Uji Tulis\n\n\n\n09:30 – 12:00\nmelanjutkan Kegiatan Uji Tulis\n\n\n\n12:00 – 13:00\nIstirahat\n\n\n\n13:00 – 13:30\nPengumpulan hasil Uji Tulis (hard copy)\n\n\n\n13:30 – 16:00\nKegiatan Uji Praktik\, di TUK
URL:https://skpi.co.id/event/uji-sertifikasi-distribusi-tenaga-listrik-26september2024/
LOCATION:Ujikom ketenagalistrikan Offline\, Jl. Menteng Raya No.29\, RT.1/RW.10\, Kb. Sirih\, Kec. Menteng\, Kota Jakarta Pusat\, Daerah Khusus Ibukota Jakarta 10410\, Jakarta\, Indonesia\, 10410\, Indonesia
CATEGORIES:distribusi
ATTACH;FMTTYPE=image/png:https://skpi.co.id/wp-content/uploads/2024/09/dist-26september2024.png
ORGANIZER;CN="PT.%20SKPI":MAILTO:admin@skpi.co.id
END:VEVENT
BEGIN:VEVENT
DTSTART;TZID=Asia/Jakarta:20240927T080000
DTEND;TZID=Asia/Jakarta:20240928T170000
DTSTAMP:20260420T102132
CREATED:20240917T044105Z
LAST-MODIFIED:20240917T073501Z
UID:4041-1727424000-1727542800@skpi.co.id
SUMMARY:UJI SERTIFIKASI TRANSMISI TENAGA LISTRIK 27september2024
DESCRIPTION:Sertifikasi Ketenagalistrikan TRANSMISI Tenaga  Teknik Listrik  LSK PT.SKPI\nPT.SKPI akan mengadakan uji kompetensi sertifikasi ketenagalistrikan dengan cara Offline bidang Transmisi\nketenagalistrikan Transmisi tenaga Listrik\,\nSub bidang – Semua Sub Bidang di minggu ke 4 September 2024  ini. Dengan jumlah sertifikat akreditasi maksimal 25 sertifikat \, Minggu Keempat di tanggal 27 September 2024 sampai dengan 28 September 2024 \,untuk informasi bisa ditanyakan secara Langsung datang ke kantor kami atau Via Online dengan cara sebagai berikut : atau info pendaftaran untuk mengikuti event berikutnya Segera daftar di form ini atau menghubungi kontak tertera di gambar.\n \nHari / Tanggal : Jumat–Sabtu/ 27 September – 28 September 2024\nTempat Uji : PT.SKPI\nJl. Menteng Raya No.29\, RT.1/RW.10\, Kb. Sirih\, Kec. Menteng\, Kota Jakarta Pusat 10410 \nSusunan Acara Kegiatan : \n  \n\n\n\nJumat\, 25 September 2024\n\n\n\n08:00 –09:30\nPembukaan\,\n\n\n\n09:30 – 12:00\nKegiatan Uji Tulis\n\n\n\n12:00 – 13:00\nIstirahat\n\n\n\n13:00 – 13:30\nPengumpulan hasil Uji Tulis (hard copy)\n\n\n\n13:30 – 16:00\nKegiatan Uji Praktik\, di TUK\n\n\n\nSabtu\, 25 September 2024\n\n\n\n08:00 –09:30\nmelanjutkan\, Kegiatan Uji Tulis\n\n\n\n09:30 – 12:00\nmelanjutkan Kegiatan Uji Tulis\n\n\n\n12:00 – 13:00\nIstirahat\n\n\n\n13:00 – 13:30\nPengumpulan hasil Uji Tulis (hard copy)\n\n\n\n13:30 – 16:00\nKegiatan Uji Praktik\, di TUK
URL:https://skpi.co.id/event/uji-sertifikasi-transmisi-tenaga-listrik-27september2024/
LOCATION:Ujikom ketenagalistrikan Offline\, Jl. Menteng Raya No.29\, RT.1/RW.10\, Kb. Sirih\, Kec. Menteng\, Kota Jakarta Pusat\, Daerah Khusus Ibukota Jakarta 10410\, Jakarta\, Indonesia\, 10410\, Indonesia
CATEGORIES:transmisi
ATTACH;FMTTYPE=image/png:https://skpi.co.id/wp-content/uploads/2024/09/trans-27sept2024-bosAI.png
ORGANIZER;CN="PT.%20SKPI":MAILTO:admin@skpi.co.id
END:VEVENT
BEGIN:VEVENT
DTSTART;TZID=Asia/Jakarta:20241003T080000
DTEND;TZID=Asia/Jakarta:20241004T170000
DTSTAMP:20260420T102132
CREATED:20240924T035455Z
LAST-MODIFIED:20240924T035455Z
UID:4053-1727942400-1728061200@skpi.co.id
SUMMARY:UJI SERTIFIKASI PEMBANGKIT TENAGA LISTRIK 03oktober2024
DESCRIPTION:Sertifikasi Ketenagalistrikan PEMBANGKIT Tenaga  Teknik Listrik  LSK PT.SKPI\nPT.SKPI akan mengadakan uji kompetensi sertifikasi ketenagalistrikan dengan cara Offline bidang Pembangkit\nketenagalistrikan Pembangkit tenaga Listrik\,\nSub bidang – Semua Sub Bidang di minggu ke 1 oktober 2024  ini. Dengan jumlah sertifikat akreditasi maksimal 25 sertifikat \, Minggu pertama di tanggal 03 oktober 2024 sampai dengan 04 oktober 2024 \,untuk informasi bisa ditanyakan secara Langsung datang ke kantor kami atau Via Online dengan cara sebagai berikut : atau info pendaftaran untuk mengikuti event berikutnya Segera daftar di form ini atau menghubungi kontak tertera di gambar.\n \nHari / Tanggal : Kamis–Jumat / 03- 04 oktober 2024\nTempat Uji : PT.SKPI\nJl. Menteng Raya No.29\, RT.1/RW.10\, Kb. Sirih\, Kec. Menteng\, Kota Jakarta Pusat 10410 \nSusunan Acara Kegiatan : \n  \n\n\n\nkamis\, 03 oktober 2024\n\n\n\n08:00 –09:30\nPembukaan\,\n\n\n\n09:30 – 12:00\nKegiatan Uji Tulis\n\n\n\n12:00 – 13:00\nIstirahat\n\n\n\n13:00 – 13:30\nPengumpulan hasil Uji Tulis (hard copy)\n\n\n\n13:30 – 16:00\nKegiatan Uji Praktik\, di TUK\n\n\n\nJumat\, 04 oktober 2024\n\n\n\n08:00 –09:30\nmelanjutkan\, Kegiatan Uji Tulis\n\n\n\n09:30 – 12:00\nmelanjutkan Kegiatan Uji Tulis\n\n\n\n12:00 – 13:00\nIstirahat\n\n\n\n13:00 – 13:30\nPengumpulan hasil Uji Tulis (hard copy)\n\n\n\n13:30 – 16:00\nKegiatan Uji Praktik\, di TUK
URL:https://skpi.co.id/event/uji-sertifikasi-pembangkit-tenaga-listrik-03oktober2024/
LOCATION:Ujikom ketenagalistrikan Offline\, Jl. Menteng Raya No.29\, RT.1/RW.10\, Kb. Sirih\, Kec. Menteng\, Kota Jakarta Pusat\, Daerah Khusus Ibukota Jakarta 10410\, Jakarta\, Indonesia\, 10410\, Indonesia
CATEGORIES:pembangkit
ATTACH;FMTTYPE=image/png:https://skpi.co.id/wp-content/uploads/2024/09/kit-03oktober2024.png
ORGANIZER;CN="PT.%20SKPI":MAILTO:admin@skpi.co.id
END:VEVENT
END:VCALENDAR