BEGIN:VCALENDAR
VERSION:2.0
PRODID:-//Sertifikasi Kompetensi Profesionalis Indonesia - ECPv5.1.6//NONSGML v1.0//EN
CALSCALE:GREGORIAN
METHOD:PUBLISH
X-WR-CALNAME:Sertifikasi Kompetensi Profesionalis Indonesia
X-ORIGINAL-URL:https://skpi.co.id
X-WR-CALDESC:Events for Sertifikasi Kompetensi Profesionalis Indonesia
BEGIN:VTIMEZONE
TZID:Asia/Jakarta
BEGIN:STANDARD
TZOFFSETFROM:+0700
TZOFFSETTO:+0700
TZNAME:WIB
DTSTART:20240101T000000
END:STANDARD
END:VTIMEZONE
BEGIN:VEVENT
DTSTART;TZID=Asia/Jakarta:20240403T080000
DTEND;TZID=Asia/Jakarta:20240405T170000
DTSTAMP:20260422T163133
CREATED:20240328T034048Z
LAST-MODIFIED:20240328T034048Z
UID:3817-1712131200-1712336400@skpi.co.id
SUMMARY:UJI SERTIFIKASI PEMBANGKITAN TENAGA LISTRIK 03-05april2024
DESCRIPTION:Sertifikasi Ketenagalistrikan PEMBANGKITAN Tenaga  Teknik Listrik  LSK PT.SKPI\nPT.SKPI akan mengadakan uji kompetensi sertifikasi ketenagalistrikan dengan cara online bidang Pembangkitan\nketenagalistrikan Pembangkitan tenaga Listrik.  PT. Difa Utama Teknik.\nSub bidang – Konsultansi Pengawasan & Perencanaan – Pembangunan dan Pemasangan di minggu ke 1 April 2024 ini. Dengan jumlah sertifikat akreditasi 25 sertifikat \, Minggu Pertama di tanggal 03 April 2024 sampai dengan 05 April 2024\,untuk informasi bisa ditanyakan secara Langsung datang ke kantor kami atau Via Online dengan cara sebagai berikut : atau info pendaftaran untuk mengikuti event berikutnya Segera daftar di form ini atau menghubungi kontak tertera di gambar\n \nHari / Tanggal : Rabu – Jumat / 03–05 April 2024\nTempat Uji : Disesuaikan (Uji Online) \nSusunan Acara Kegiatan : \n\n\n\nRabu\, 03 April 2024\n\n\n\n08:00 – 09:30\nPembukaan\, menggunakan Video Conference\n\n\n\n09:30 – 12:00\nKegiatan Uji Tulis (Soal akan dikirim ke masing-masing peserta)\n\n\n\n12:00 – 13:00\nIstirahat\n\n\n\n13:00 – 13:30\nPengumpulan hasil Uji Tulis (Format .pdf)\n\n\n\n13:30 – 16:00\nKegiatan Uji Praktik\, menggunakan Video Conference\n\n\n\nKamis\, 04 April 2024\n\n\n\n08:30 – 12:00\nKegiatan Uji Tulis (Soal akan dikirim ke masing-masing peserta)\n\n\n\n12:00 – 13:00\nIstirahat\n\n\n\n13:00 – 13:30\nPengumpulan hasil Uji Tulis (Format .pdf)\n\n\n\n13:30 – 16:00\nKegiatan Uji Praktik\, menggunakan Video Conference\n\n\n\nJumat\, 05 April 2024\n\n\n\n08:00 – 12:00\nMelanjutkan kegiatan Uji Praktik\, menggunakan Video Conference\n\n\n\n12:00 – 13:00\nIstirahat\n\n\n\n13:30 – 16:00\nUmpan Balik – Penutupan menggunakan Video Conference
URL:https://skpi.co.id/event/uji-sertifikasi-pembangkitan-tenaga-listrik-03-05april2024/
LOCATION:Ujikom online bidang pembangkit\, PT. SERTIFIKASI KOMPETENSI PROFESIONALIS INDONESIA\, Jakarta Pusat\, DKI Jakarta\, 10340\, Indonesia
CATEGORIES:pembangkit
ATTACH;FMTTYPE=image/png:https://skpi.co.id/wp-content/uploads/2024/03/2sertifikasipembangkit0305april2024.png
ORGANIZER;CN="PT.%20SKPI":MAILTO:admin@skpi.co.id
END:VEVENT
BEGIN:VEVENT
DTSTART;TZID=Asia/Jakarta:20240403T080000
DTEND;TZID=Asia/Jakarta:20240405T170000
DTSTAMP:20260422T163133
CREATED:20240328T034449Z
LAST-MODIFIED:20240328T034449Z
UID:3820-1712131200-1712336400@skpi.co.id
SUMMARY:UJI SERTIFIKASI PEMBANGKITAN TENAGA LISTRIK2 03-05april2024
DESCRIPTION:Sertifikasi Ketenagalistrikan PEMBANGKITAN Tenaga  Teknik Listrik  LSK PT.SKPI\nPT.SKPI akan mengadakan uji kompetensi sertifikasi ketenagalistrikan dengan cara online bidang Pembangkitan\nketenagalistrikan Pembangkitan tenaga Listrik.  PT. ACSET INDONUSA\, Tbk.\nSub bidang – Pemeliharaan – Pembangunan dan Pemasangan di minggu ke 1 April 2024 ini. Dengan jumlah sertifikat akreditasi 25 sertifikat \, Minggu Pertama di tanggal 03 April 2024 sampai dengan 05 April 2024\,untuk informasi bisa ditanyakan secara Langsung datang ke kantor kami atau Via Online dengan cara sebagai berikut : atau info pendaftaran untuk mengikuti event berikutnya Segera daftar di form ini atau menghubungi kontak tertera di gambar\n \nHari / Tanggal : Rabu – Jumat / 03–05 April 2024\nTempat Uji : Disesuaikan (Uji Online) \nSusunan Acara Kegiatan : \n\n\n\nRabu\, 03 April 2024\n\n\n\n08:00 – 09:30\nPembukaan\, menggunakan Video Conference\n\n\n\n09:30 – 12:00\nKegiatan Uji Tulis (Soal akan dikirim ke masing-masing peserta)\n\n\n\n12:00 – 13:00\nIstirahat\n\n\n\n13:00 – 13:30\nPengumpulan hasil Uji Tulis (Format .pdf)\n\n\n\n13:30 – 16:00\nKegiatan Uji Praktik\, menggunakan Video Conference\n\n\n\nKamis\, 04 April 2024\n\n\n\n08:30 – 12:00\nKegiatan Uji Tulis (Soal akan dikirim ke masing-masing peserta)\n\n\n\n12:00 – 13:00\nIstirahat\n\n\n\n13:00 – 13:30\nPengumpulan hasil Uji Tulis (Format .pdf)\n\n\n\n13:30 – 16:00\nKegiatan Uji Praktik\, menggunakan Video Conference\n\n\n\nJumat\, 05 April 2024\n\n\n\n08:00 – 12:00\nMelanjutkan kegiatan Uji Praktik\, menggunakan Video Conference\n\n\n\n12:00 – 13:00\nIstirahat\n\n\n\n13:30 – 16:00\nUmpan Balik – Penutupan menggunakan Video Conference
URL:https://skpi.co.id/event/uji-sertifikasi-pembangkitan-tenaga-listrik2-03-05april2024/
LOCATION:Ujikom online bidang pembangkit\, PT. SERTIFIKASI KOMPETENSI PROFESIONALIS INDONESIA\, Jakarta Pusat\, DKI Jakarta\, 10340\, Indonesia
CATEGORIES:pembangkit
ATTACH;FMTTYPE=image/png:https://skpi.co.id/wp-content/uploads/2024/03/sertifikasipembangkit0305april2024.png
ORGANIZER;CN="PT.%20SKPI":MAILTO:admin@skpi.co.id
END:VEVENT
BEGIN:VEVENT
DTSTART;TZID=Asia/Jakarta:20240406T080000
DTEND;TZID=Asia/Jakarta:20240408T170000
DTSTAMP:20260422T163133
CREATED:20240330T114905Z
LAST-MODIFIED:20240330T114905Z
UID:3824-1712390400-1712595600@skpi.co.id
SUMMARY:UJI SERTIFIKASI PEMANFAATAN TENAGA LISTRIK 0608april2024
DESCRIPTION:Sertifikasi Ketenagalistrikan PEMANFAATAN Tenaga  Teknik Listrik  LSK PT.SKPI\nPT.SKPI akan mengadakan uji kompetensi sertifikasi ketenagalistrikan dengan cara online bidang Pemanfaatan\nketenagalistrikan Pemanfaatan tenaga Listrik\,\nSub bidang – Pembangunan dan Pemasangan – Pemeliharaan – Pemeriksaan dan Pengujian – di minggu ke 1 April 2024  ini. Dengan jumlah sertifikat akreditasi maksimal 25 sertifikat \, Minggu Pertama di tanggal 06 April 2024 sampai dengan 08 April 2024 \,untuk informasi bisa ditanyakan secara Langsung datang ke kantor kami atau Via Online dengan cara sebagai berikut : atau info pendaftaran untuk mengikuti event berikutnya Segera daftar di form ini atau menghubungi kontak tertera di gambar.\n \nHari / Tanggal : Sabtu–Senin / 06 April – 08 April 2024\nTempat Uji : Disesuaikan (Uji Online) \nSusunan Acara Kegiatan : \n  \n\n\n\nSabtu\, 06 April 2024\n\n\n\n08:00 –09:30\nPembukaan\, menggunakan Video Conference\n\n\n\n09:30 – 12:00\nKegiatan Uji Tulis (Soal akan dikirim ke masing-masing peserta)\n\n\n\n12:00 – 13:00\nIstirahat\n\n\n\n13:00 – 13:30\nPengumpulan hasil Uji Tulis (Format .pdf)\n\n\n\n13:30 – 16:00\nKegiatan Uji Praktik\, menggunakan Video Conference\n\n\n\nMinggu\, 07 April 2024\n\n\n\n08:00 –09:30\nmelanjutkan\, Kegiatan Uji Tulis\n\n\n\n09:30 – 12:00\nmelanjutkan Kegiatan Uji Tulis\n\n\n\n12:00 – 13:00\nIstirahat\n\n\n\n13:00 – 13:30\nPengumpulan hasil Uji Tulis (Format .pdf)\n\n\n\n13:30 – 16:00\nKegiatan Uji Praktik\, menggunakan Video Conference\n\n\n\nSenin\, 08 April 2024\n\n\n\n08:00 –09:30\nmelanjutkan\, Kegiatan Uji Tulis\n\n\n\n09:30 – 12:00\nmelanjutkan Kegiatan Uji Tulis\n\n\n\n12:00 – 13:00\nIstirahat\n\n\n\n13:00 – 13:30\nPengumpulan hasil Uji Tulis (Format .pdf)\n\n\n\n13:30 – 16:00\nKegiatan Uji Praktik\, menggunakan Video Conference
URL:https://skpi.co.id/event/uji-sertifikasi-pemanfaatan-tenaga-listrik-0608april2024/
LOCATION:Ujikom online bidang IPTL\, PT. SERTIFIKASI KOMPETENSI PROFESIONALIS INDONESIA\, Jakarta Pusat\, DKI Jakarta\, 10340\, Indonesia
CATEGORIES:pemanfaatan
ATTACH;FMTTYPE=image/png:https://skpi.co.id/wp-content/uploads/2024/03/sertifikasi-iptl-68april2024.png
ORGANIZER;CN="PT.%20SKPI":MAILTO:admin@skpi.co.id
END:VEVENT
BEGIN:VEVENT
DTSTART;TZID=Asia/Jakarta:20240420T080000
DTEND;TZID=Asia/Jakarta:20240421T170000
DTSTAMP:20260422T163133
CREATED:20240413T123026Z
LAST-MODIFIED:20240414T101500Z
UID:3828-1713600000-1713718800@skpi.co.id
SUMMARY:UJI SERTIFIKASI PEMANFAATAN TENAGA LISTRIK 2021april2024
DESCRIPTION:Sertifikasi Ketenagalistrikan PEMANFAATAN Tenaga  Teknik Listrik  LSK PT.SKPI\nPT.SKPI akan mengadakan uji kompetensi sertifikasi ketenagalistrikan dengan cara online bidang Pemanfaatan\nketenagalistrikan Pemanfaatan tenaga Listrik\, PT. Inter Mitra Sejati\nSub bidang – Pembangunan dan Pemasangan di minggu ke 4 April 2024  ini. Dengan jumlah sertifikat akreditasi maksimal 25 sertifikat \, Minggu Pertama di tanggal 20 April 2024 sampai dengan 21 April 2024 \,untuk informasi bisa ditanyakan secara Langsung datang ke kantor kami atau Via Online dengan cara sebagai berikut : atau info pendaftaran untuk mengikuti event berikutnya Segera daftar di form ini atau menghubungi kontak tertera di gambar.\n \nHari / Tanggal : Sabtu–Minggu / 20 April – 21 April 2024\nTempat Uji : Disesuaikan (Uji Online) \nSusunan Acara Kegiatan : \n  \n\n\n\nSabtu\, 20 April 2024\n\n\n\n08:00 –09:30\nPembukaan\, menggunakan Video Conference\n\n\n\n09:30 – 12:00\nKegiatan Uji Tulis (Soal akan dikirim ke masing-masing peserta)\n\n\n\n12:00 – 13:00\nIstirahat\n\n\n\n13:00 – 13:30\nPengumpulan hasil Uji Tulis (Format .pdf)\n\n\n\n13:30 – 16:00\nKegiatan Uji Praktik\, menggunakan Video Conference\n\n\n\nMinggu\, 21 April 2024\n\n\n\n08:00 –09:30\nmelanjutkan\, Kegiatan Uji Tulis\n\n\n\n09:30 – 12:00\nmelanjutkan Kegiatan Uji Tulis\n\n\n\n12:00 – 13:00\nIstirahat\n\n\n\n13:00 – 13:30\nPengumpulan hasil Uji Tulis (Format .pdf)\n\n\n\n13:30 – 16:00\nKegiatan Uji Praktik\, menggunakan Video Conference
URL:https://skpi.co.id/event/uji-sertifikasi-pemanfaatan-tenaga-listrik-2021april2024/
LOCATION:Ujikom online bidang IPTL\, PT. SERTIFIKASI KOMPETENSI PROFESIONALIS INDONESIA\, Jakarta Pusat\, DKI Jakarta\, 10340\, Indonesia
CATEGORIES:pemanfaatan
ATTACH;FMTTYPE=image/png:https://skpi.co.id/wp-content/uploads/2024/04/sertifikasi-iptl-21april2024.png
ORGANIZER;CN="PT.%20SKPI":MAILTO:admin@skpi.co.id
END:VEVENT
BEGIN:VEVENT
DTSTART;TZID=Asia/Jakarta:20240420T080000
DTEND;TZID=Asia/Jakarta:20240421T170000
DTSTAMP:20260422T163133
CREATED:20240414T101426Z
LAST-MODIFIED:20240414T102719Z
UID:3832-1713600000-1713718800@skpi.co.id
SUMMARY:UJI SERTIFIKASI TRANSMISI TENAGA LISTRIK 20-21april2024
DESCRIPTION:Sertifikasi Ketenagalistrikan TRANSMISI Tenaga  Teknik Listrik  LSK PT.SKPI\nPT.SKPI akan mengadakan uji kompetensi sertifikasi ketenagalistrikan dengan cara online bidang Transmisi\, PT. SARINDO SUKSES ASIA\nketenagalistrikan Transmisi Listrik sub bidang  Pembangunan dan Pemasangan – Pemeliharaan di minggu ke 4 April 2024 ini. Dengan jumlah sertifikat akreditasi 25 sertifikat \, Minggu Keempat di tanggal 20 April 2024  sampai dengan 21 April 2024 untuk informasi bisa ditanyakan secara Langsung datang ke kantor kami atau Via Online dengan cara sebagai berikut : atau info pendaftaran untuk mengikuti event berikutnya Segera daftar di form ini atau menghubungi kontak tertera di gambar\n \nHari / Tanggal : Sabtu–Minggu / 20–21 April 2024\nTempat Uji : Disesuaikan (Uji Online)\nSusunan Acara Kegiatan : \nSusunan Acara Kegiatan : \n\n\n\nSabtu\, 20 April 2024\n\n\n\n08:00 – 09:30\nPembukaan\, menggunakan Video Conference\n\n\n\n09:30 – 12:00\nKegiatan Uji Tulis (Soal akan dikirim ke masing-masing peserta)\n\n\n\n12:00 – 13:00\nIstirahat\n\n\n\n13:00 – 13:30\nPengumpulan hasil Uji Tulis (Format .pdf)\n\n\n\n13:30 – 16:00\nKegiatan Uji Praktik\, menggunakan Video Conference\n\n\n\nMinggu\, 21 April 2024\n\n\n\n08:00 – 12:00\nMelanjutkan Kegiatan Uji praktik\n\n\n\n12:00 – 13:00\nIstirahat\n\n\n\n13:30 – 16:00\nMelanjutkan kegiatan uji praktek dan uji lisan\, menggunaka VC\n\n\n\n16:30 – Selesai\n Penutupan
URL:https://skpi.co.id/event/uji-sertifikasi-transmisi-tenaga-listrik-20-21april2024/
LOCATION:Ujikom online bidang Transmisi\, PT. SERTIFIKASI KOMPETENSI PROFESIONALIS INDONESIA\, Jakarta Pusat\, DKI Jakarta\, 10340\, Indonesia
CATEGORIES:transmisi
ATTACH;FMTTYPE=image/png:https://skpi.co.id/wp-content/uploads/2024/04/20apriltransmisi-1.png
ORGANIZER;CN="PT.%20SKPI":MAILTO:admin@skpi.co.id
END:VEVENT
BEGIN:VEVENT
DTSTART;TZID=Asia/Jakarta:20240427T080000
DTEND;TZID=Asia/Jakarta:20240429T170000
DTSTAMP:20260422T163133
CREATED:20240420T110835Z
LAST-MODIFIED:20240420T110835Z
UID:3838-1714204800-1714410000@skpi.co.id
SUMMARY:UJI SERTIFIKASI PEMBANGKITAN TENAGA LISTRIK27-29april2024
DESCRIPTION:Sertifikasi Ketenagalistrikan PEMBANGKITAN Tenaga  Teknik Listrik  LSK PT.SKPI\nPT.SKPI akan mengadakan uji kompetensi sertifikasi ketenagalistrikan dengan cara online bidang Pembangkitan\nketenagalistrikan Pembangkitan tenaga Listrik.  PT. DIFA UTAMA TEKNIK.\nSub bidang – Semua Sub Bidang di minggu ke 4 April 2024 ini. Dengan jumlah sertifikat akreditasi 25 sertifikat \, Minggu Pertama di tanggal 27 April 2024 sampai dengan 29 April 2024\,untuk informasi bisa ditanyakan secara Langsung datang ke kantor kami atau Via Online dengan cara sebagai berikut : atau info pendaftaran untuk mengikuti event berikutnya Segera daftar di form ini atau menghubungi kontak tertera di gambar\n \nHari / Tanggal : Sabtu– Minggu / 27–29 April 2024\nTempat Uji : Disesuaikan (Uji Online) \nSusunan Acara Kegiatan : \n\n\n\nSabtu\, 27 April 2024\n\n\n\n08:00 – 09:30\nPembukaan\, menggunakan Video Conference\n\n\n\n09:30 – 12:00\nKegiatan Uji Tulis (Soal akan dikirim ke masing-masing peserta)\n\n\n\n12:00 – 13:00\nIstirahat\n\n\n\n13:00 – 13:30\nPengumpulan hasil Uji Tulis (Format .pdf)\n\n\n\n13:30 – 16:00\nKegiatan Uji Praktik\, menggunakan Video Conference\n\n\n\nMinggu\, 28 April 2024\n\n\n\n08:30 – 12:00\nKegiatan Uji Tulis (Soal akan dikirim ke masing-masing peserta)\n\n\n\n12:00 – 13:00\nIstirahat\n\n\n\n13:00 – 13:30\nPengumpulan hasil Uji Tulis (Format .pdf)\n\n\n\n13:30 – 16:00\nKegiatan Uji Praktik\, menggunakan Video Conference\n\n\n\nSenin\, 29 April 2024\n\n\n\n08:00 – 12:00\nMelanjutkan kegiatan Uji Praktik\, menggunakan Video Conference\n\n\n\n12:00 – 13:00\nIstirahat\n\n\n\n13:30 – 16:00\nUmpan Balik – Penutupan menggunakan Video Conference
URL:https://skpi.co.id/event/uji-sertifikasi-pembangkitan-tenaga-listrik27-29april2024/
LOCATION:Ujikom online bidang pembangkit\, PT. SERTIFIKASI KOMPETENSI PROFESIONALIS INDONESIA\, Jakarta Pusat\, DKI Jakarta\, 10340\, Indonesia
ATTACH;FMTTYPE=image/png:https://skpi.co.id/wp-content/uploads/2024/04/2sertifikasipembangkit27april2024.png
ORGANIZER;CN="PT.%20SKPI":MAILTO:admin@skpi.co.id
END:VEVENT
BEGIN:VEVENT
DTSTART;TZID=Asia/Jakarta:20240501T080000
DTEND;TZID=Asia/Jakarta:20240503T170000
DTSTAMP:20260422T163133
CREATED:20240424T132854Z
LAST-MODIFIED:20240424T132941Z
UID:3847-1714550400-1714755600@skpi.co.id
SUMMARY:UJI SERTIFIKASI DISTRIBUSI TENAGA LISTRIK 01-03mei2024
DESCRIPTION:Sertifikasi Ketenagalistrikan DISTRIBUSI Tenaga  Teknik Listrik  LSK PT.SKPI\nPT.SKPI akan mengadakan uji kompetensi sertifikasi ketenagalistrikan dengan cara online bidang Distribusi\nketenagalistrikan. Distribusi  PT. SARINDO SUKSES ASIA Tenaga Listrik sub bidang – Pengoperasian – Pembangunan & Pemasangan  di minggu ke 1 Mei 2024 ini. Dengan jumlah sertifikat akreditasi 25 sertifikat. Minggu Keempat di tanggal 01 Mei 2024 sampai dengan 03 Mei 2024.  \nUntuk informasi bisa ditanyakan secara Langsung datang ke kantor kami atau Via Online dengan cara sebagai berikut atau info pendaftaran untuk mengikuti event berikutnya Segera daftar di form ini atau menghubungi kontak tertera di gambar : \n \nHari / Tanggal : Rabu–Jumat / 01 Mei – 03 Mei 2024\nTempat Uji : Disesuaikan (Uji Online)\nSusunan Acara Kegiatan : \nSusunan Acara Kegiatan :\n  \n\n\n\nRabu\, 01 Mei 2024\n\n\n\n08:00 – 09:30\nPembukaan\, menggunakan Video Conference\n\n\n\n09:30 – 12:00\nKegiatan Uji Tulis (Soal akan dikirim ke masing-masing peserta)\n\n\n\n12:00 – 13:00\nIstirahat\n\n\n\n13:00 – 13:30\nPengumpulan hasil Uji Tulis (Format .pdf)\n\n\n\n13:30 – 16:00\nKegiatan Uji Praktik\, menggunakan Video Conference\n\n\n\n08:00 – 12:00\nMelanjutkan Kegiatan Uji praktik\n\n\n\n12:00 – 13:00\nIstirahat\n\n\n\n13:30 – 16:00\nMelanjutkan kegiatan uji praktek dan uji lisan\, menggunaka VC\n\n\n\n16:30 – Selesai\n Penutupan\n\n\n\nKamis\, 02 Mei 2024\n\n\n\n08:00 – 09:30\n Melanjutkan  Kegiatan Uji Tulis (Soal akan dikirim ke masing-masing peserta)\n\n\n\n09:30 – 12:00\n Melanjutkan  Kegiatan Uji Tulis (Soal akan dikirim ke masing-masing peserta)\n\n\n\n12:00 – 13:00\nIstirahat\n\n\n\n13:00 – 13:30\nPengumpulan hasil Uji Tulis (Format .pdf)\n\n\n\n13:30 – 16:00\nKegiatan Uji Praktik\, menggunakan Video Conference\n\n\n\n08:00 – 12:00\nMelanjutkan Kegiatan Uji praktik\n\n\n\n12:00 – 13:00\nIstirahat\n\n\n\n13:30 – 16:00\nMelanjutkan kegiatan uji praktek dan uji lisan\, menggunaka VC\n\n\n\nJumat\, 03 Mei 2024\n\n\n\n08:00 – 09:30\n Melanjutkan  Kegiatan Uji Tulis (Soal akan dikirim ke masing-masing peserta)\n\n\n\n09:30 – 12:00\n Melanjutkan  Kegiatan Uji Tulis (Soal akan dikirim ke masing-masing peserta)\n\n\n\n12:00 – 13:00\nIstirahat\n\n\n\n13:00 – 13:30\nPengumpulan hasil Uji Tulis (Format .pdf)\n\n\n\n13:30 – 16:00\nKegiatan Uji Praktik\, menggunakan Video Conference\n\n\n\n08:00 – 12:00\nMelanjutkan Kegiatan Uji praktik\n\n\n\n12:00 – 13:00\nIstirahat\n\n\n\n13:30 – 16:00\nMelanjutkan kegiatan uji praktek dan uji lisan\, menggunaka VC\n\n\n\n16:30 – Selesai\n Penutupan
URL:https://skpi.co.id/event/uji-sertifikasi-distribusi-tenaga-listrik-01-03mei2024/
LOCATION:Ujikom online bidang distribusi\, PT. SERTIFIKASI KOMPETENSI PROFESIONALIS INDONESIA\, Jakarta Pusat\, DKI Jakarta\, 10340\, Indonesia
CATEGORIES:distribusi
ATTACH;FMTTYPE=image/png:https://skpi.co.id/wp-content/uploads/2024/04/1.png
ORGANIZER;CN="PT.%20SKPI":MAILTO:admin@skpi.co.id
END:VEVENT
BEGIN:VEVENT
DTSTART;TZID=Asia/Jakarta:20240502T080000
DTEND;TZID=Asia/Jakarta:20240504T170000
DTSTAMP:20260422T163133
CREATED:20240426T095118Z
LAST-MODIFIED:20240426T095118Z
UID:3851-1714636800-1714842000@skpi.co.id
SUMMARY:UJI SERTIFIKASI PEMBANGKITAN TENAGA LISTRIK02-04mei2024
DESCRIPTION:Sertifikasi Ketenagalistrikan PEMBANGKITAN Tenaga  Teknik Listrik  LSK PT.SKPI\nPT.SKPI akan mengadakan uji kompetensi sertifikasi ketenagalistrikan dengan cara online bidang Pembangkitan\nketenagalistrikan Pembangkitan tenaga Listrik.  Klien pt.skpi.\nSub bidang – Konsultansi Pengawasan – Pemeriksaan dan Pengujian di minggu ke 1 Mei 2024 ini. Dengan jumlah sertifikat akreditasi 25 sertifikat \, Minggu Pertama di tanggal 02 Mei 2024 sampai dengan 04 Mei 2024\,untuk informasi bisa ditanyakan secara Langsung datang ke kantor kami atau Via Online dengan cara sebagai berikut : atau info pendaftaran untuk mengikuti event berikutnya Segera daftar di form ini atau menghubungi kontak tertera di gambar\n \nHari / Tanggal : Kamis – Sabtu / 02–04 Mei 2024\nTempat Uji : Disesuaikan (Uji Online) \nSusunan Acara Kegiatan : \n\n\n\nKamis\, 02 Mei 2024\n\n\n\n08:00 – 09:30\nPembukaan\, menggunakan Video Conference\n\n\n\n09:30 – 12:00\nKegiatan Uji Tulis (Soal akan dikirim ke masing-masing peserta)\n\n\n\n12:00 – 13:00\nIstirahat\n\n\n\n13:00 – 13:30\nPengumpulan hasil Uji Tulis (Format .pdf)\n\n\n\n13:30 – 16:00\nKegiatan Uji Praktik\, menggunakan Video Conference\n\n\n\nJumat\, 03 Mei 2024\n\n\n\n08:30 – 12:00\nKegiatan Uji Tulis (Soal akan dikirim ke masing-masing peserta)\n\n\n\n12:00 – 13:00\nIstirahat\n\n\n\n13:00 – 13:30\nPengumpulan hasil Uji Tulis (Format .pdf)\n\n\n\n13:30 – 16:00\nKegiatan Uji Praktik\, menggunakan Video Conference\n\n\n\nSabtu\, 04 Mei 2024\n\n\n\n08:00 – 12:00\nMelanjutkan kegiatan Uji Praktik\, menggunakan Video Conference\n\n\n\n12:00 – 13:00\nIstirahat\n\n\n\n13:30 – 16:00\nUmpan Balik – Penutupan menggunakan Video Conference
URL:https://skpi.co.id/event/uji-sertifikasi-pembangkitan-tenaga-listrik02-04mei2024/
LOCATION:Ujikom online bidang pembangkit\, PT. SERTIFIKASI KOMPETENSI PROFESIONALIS INDONESIA\, Jakarta Pusat\, DKI Jakarta\, 10340\, Indonesia
CATEGORIES:pembangkit
ATTACH;FMTTYPE=image/png:https://skpi.co.id/wp-content/uploads/2024/04/2sertifikasipembangkit02mei2024.png
ORGANIZER;CN="PT.%20SKPI":MAILTO:admin@skpi.co.id
END:VEVENT
END:VCALENDAR