BEGIN:VCALENDAR
VERSION:2.0
PRODID:-//Sertifikasi Kompetensi Profesionalis Indonesia - ECPv5.1.6//NONSGML v1.0//EN
CALSCALE:GREGORIAN
METHOD:PUBLISH
X-WR-CALNAME:Sertifikasi Kompetensi Profesionalis Indonesia
X-ORIGINAL-URL:https://skpi.co.id
X-WR-CALDESC:Events for Sertifikasi Kompetensi Profesionalis Indonesia
BEGIN:VTIMEZONE
TZID:Asia/Jakarta
BEGIN:STANDARD
TZOFFSETFROM:+0700
TZOFFSETTO:+0700
TZNAME:WIB
DTSTART:20240101T000000
END:STANDARD
END:VTIMEZONE
BEGIN:VEVENT
DTSTART;TZID=Asia/Jakarta:20240104T080000
DTEND;TZID=Asia/Jakarta:20240105T170000
DTSTAMP:20260422T212558
CREATED:20231229T060909Z
LAST-MODIFIED:20231229T060909Z
UID:3688-1704355200-1704474000@skpi.co.id
SUMMARY:UJI SERTIFIKASI PEMANFAATAN TENAGA LISTRIK 4-5januari2024
DESCRIPTION:Sertifikasi Ketenagalistrikan PEMANFAATAN Tenaga  Teknik Listrik  LSK PT.SKPI\nPT.SKPI akan mengadakan uji kompetensi sertifikasi ketenagalistrikan dengan cara online bidang Pemanfaatan\nketenagalistrikan Pemanfaatan tenaga Listrik\, PT. Denki Engineering\nSub bidang – Pemeliharaan – Pemeriksaan dan Pengujian – Pengoperasian – Pembangunan dan Pemasangan di minggu ke 1  Januari  2024  ini. Dengan jumlah sertifikat akreditasi 25 sertifikat \, Minggu pertama di tanggal 04 Januari  2024 sampai dengan 05 Januari  2024 \,untuk informasi bisa ditanyakan secara Langsung datang ke kantor kami atau Via Online dengan cara sebagai berikut : atau info pendaftaran untuk mengikuti event berikutnya Segera daftar di form ini atau menghubungi kontak tertera di gambar\n \nHari / Tanggal : Kamis–Jumat / 04-05  Januari  2024\nTempat Uji : Disesuaikan (Uji Online) \nSusunan Acara Kegiatan : \n\n\n\nKamis\, 04 Januari 2024\n\n\n\n08:00 –09:30\nPembukaan\, menggunakan Video Conference\n\n\n\n09:30 – 12:00\nKegiatan Uji Tulis (Soal akan dikirim ke masing-masing peserta)\n\n\n\n12:00 – 13:00\nIstirahat\n\n\n\n13:00 – 13:30\nPengumpulan hasil Uji Tulis (Format .pdf)\n\n\n\n13:30 – 16:00\nKegiatan Uji Praktik\, menggunakan Video Conference\n\n\n\nJumat\, 05 Januari 2024\n\n\n\n08:00 – 12:00\nMelanjutkan kegiatan Uji Praktik\, menggunakan Video Conference\n\n\n\n12:00 – 13:00\nIstirahat\n\n\n\n13:30 – 16:00\nUmpan Balik – Penutupan menggunakan Video Conference
URL:https://skpi.co.id/event/uji-sertifikasi-pemanfaatan-tenaga-listrik-4-5januari2024/
LOCATION:Ujikom online bidang IPTL\, PT. SERTIFIKASI KOMPETENSI PROFESIONALIS INDONESIA\, Jakarta Pusat\, DKI Jakarta\, 10340\, Indonesia
CATEGORIES:pemanfaatan
ATTACH;FMTTYPE=image/png:https://skpi.co.id/wp-content/uploads/2023/12/1-sertifikasi-ketenagalistrikan-2024.png
ORGANIZER;CN="PT.%20SKPI":MAILTO:admin@skpi.co.id
END:VEVENT
BEGIN:VEVENT
DTSTART;TZID=Asia/Jakarta:20240106T080000
DTEND;TZID=Asia/Jakarta:20240108T170000
DTSTAMP:20260422T212558
CREATED:20231230T112646Z
LAST-MODIFIED:20231230T131623Z
UID:3692-1704528000-1704733200@skpi.co.id
SUMMARY:UJI SERTIFIKASI PEMBANGKITAN TENAGA LISTRIK 4-5januari2024
DESCRIPTION:Sertifikasi Ketenagalistrikan PEMBANGKITAN Tenaga  Teknik Listrik  LSK PT.SKPI\nPT.SKPI akan mengadakan uji kompetensi sertifikasi ketenagalistrikan dengan cara online bidang Pembangkitan\nketenagalistrikan Pembangkitan tenaga Listrik. PT. Helios Technologies\nsub bidang – pemeliharaan – Pembangunan dan Pemasangan – Pemeriksaan dan Pengujian  di minggu ke 2 Januari  2024 ini. Dengan jumlah sertifikat akreditasi 25 sertifikat \, Minggu Kedua di tanggal 06 Januari  2024 sampai dengan 08 Januari  2024\,untuk informasi bisa ditanyakan secara Langsung datang ke kantor kami atau Via Online dengan cara sebagai berikut : atau info pendaftaran untuk mengikuti event berikutnya Segera daftar di form ini atau menghubungi kontak tertera di gambar\n \nHari / Tanggal : Sabtu– Minggu / 06–08 Januari  2024\nTempat Uji : Disesuaikan (Uji Online) \nSusunan Acara Kegiatan : \n  \n\n\n\nSabtu\, 06 Januari  2024\n\n\n\n08:00 – 09:30\nPembukaan\, menggunakan Video Conference\n\n\n\n09:30 – 12:00\nKegiatan Uji Tulis (Soal akan dikirim ke masing-masing peserta)\n\n\n\n12:00 – 13:00\nIstirahat\n\n\n\n13:00 – 13:30\nPengumpulan hasil Uji Tulis (Format .pdf)\n\n\n\n13:30 – 16:00\nKegiatan Uji Praktik\, menggunakan Video Conference\n\n\n\nMinggu\, 07 Januari  2024\n\n\n\n08:00 – 12:00\nMelanjutkan kegiatan Uji Praktik\, menggunakan Video Conference\n\n\n\n12:00 – 13:00\nIstirahat\n\n\n\n13:30 – 16:00\nMelanjutkan Kegiatan Uji praktik\n\n\n\nSenin\, 08 Januari  2024\n\n\n\n08:00 – 12:00\nMelanjutkan kegiatan Uji Praktik\, menggunakan Video Conference\n\n\n\n12:00 – 13:00\nIstirahat\n\n\n\n13:30 – 16:00\nUmpan Balik – Penutupan menggunakan Video Conference
URL:https://skpi.co.id/event/uji-sertifikasi-pembangkitan-tenaga-listrik-4-5januari2024/
LOCATION:Ujikom online bidang pembangkit\, PT. SERTIFIKASI KOMPETENSI PROFESIONALIS INDONESIA\, Jakarta Pusat\, DKI Jakarta\, 10340\, Indonesia
CATEGORIES:pembangkit
ATTACH;FMTTYPE=image/png:https://skpi.co.id/wp-content/uploads/2023/12/3-sertifikasi-pembangkitan-ketenagalistrikan-januari-2024-skpi.png
ORGANIZER;CN="PT.%20SKPI":MAILTO:admin@skpi.co.id
END:VEVENT
BEGIN:VEVENT
DTSTART;TZID=Asia/Jakarta:20240112T080000
DTEND;TZID=Asia/Jakarta:20240114T170000
DTSTAMP:20260422T212558
CREATED:20240106T040840Z
LAST-MODIFIED:20240106T040840Z
UID:3701-1705046400-1705251600@skpi.co.id
SUMMARY:UJI SERTIFIKASI PEMBANGKITAN TENAGA LISTRIK 12-14januari2024
DESCRIPTION:Sertifikasi Ketenagalistrikan PEMBANGKITAN Tenaga  Teknik Listrik  LSK PT.SKPI\nPT.SKPI akan mengadakan uji kompetensi sertifikasi ketenagalistrikan dengan cara online bidang Pembangkitan\nketenagalistrikan Pembangkitan tenaga Listrik. PT. Energi Bangkit Indonesia\nsub bidang – pemeliharaan – Pengoperasian –  Pembangunan dan Pemasangan  di minggu ke 2 Januari  2024 ini. Dengan jumlah sertifikat akreditasi 25 sertifikat \, Minggu Kedua di tanggal 12 Januari  2024 sampai dengan 14 Januari  2024\,untuk informasi bisa ditanyakan secara Langsung datang ke kantor kami atau Via Online dengan cara sebagai berikut : atau info pendaftaran untuk mengikuti event berikutnya Segera daftar di form ini atau menghubungi kontak tertera di gambar\n \nHari / Tanggal : Sabtu– Minggu / 12–14Januari  2024\nTempat Uji : Disesuaikan (Uji Online) \nSusunan Acara Kegiatan : \n  \n\n\n\nJumat\, 12 Januari  2024\n\n\n\n08:00 – 09:30\nPembukaan\, menggunakan Video Conference\n\n\n\n09:30 – 12:00\nKegiatan Uji Tulis (Soal akan dikirim ke masing-masing peserta)\n\n\n\n12:00 – 13:00\nIstirahat\n\n\n\n13:00 – 13:30\nPengumpulan hasil Uji Tulis (Format .pdf)\n\n\n\n13:30 – 16:00\nKegiatan Uji Praktik\, menggunakan Video Conference\n\n\n\nSabtu\, 13 Januari  2024\n\n\n\n08:00 – 12:00\nMelanjutkan kegiatan Uji Praktik\, menggunakan Video Conference\n\n\n\n12:00 – 13:00\nIstirahat\n\n\n\n13:30 – 16:00\nMelanjutkan Kegiatan Uji praktik\n\n\n\nMinggu\, 14 Januari  2024\n\n\n\n08:00 – 12:00\nMelanjutkan kegiatan Uji Praktik\, menggunakan Video Conference\n\n\n\n12:00 – 13:00\nIstirahat\n\n\n\n13:30 – 16:00\nUmpan Balik – Penutupan menggunakan Video Conference
URL:https://skpi.co.id/event/uji-sertifikasi-pembangkitan-tenaga-listrik-12-14januari2024/
LOCATION:Ujikom online bidang pembangkit\, PT. SERTIFIKASI KOMPETENSI PROFESIONALIS INDONESIA\, Jakarta Pusat\, DKI Jakarta\, 10340\, Indonesia
CATEGORIES:pembangkit
ATTACH;FMTTYPE=image/png:https://skpi.co.id/wp-content/uploads/2024/01/4-sertifikasi-pembangkitan-ketenagalistrikan-12-januari2024.png
ORGANIZER;CN="PT.%20SKPI":MAILTO:admin@skpi.co.id
END:VEVENT
BEGIN:VEVENT
DTSTART;TZID=Asia/Jakarta:20240115T080000
DTEND;TZID=Asia/Jakarta:20240116T170000
DTSTAMP:20260422T212558
CREATED:20240108T132935Z
LAST-MODIFIED:20240108T133242Z
UID:3705-1705305600-1705424400@skpi.co.id
SUMMARY:UJI SERTIFIKASI PEMANFAATAN TENAGA LISTRIK 15-16januari2024
DESCRIPTION:Sertifikasi Ketenagalistrikan PEMANFAATAN Tenaga  Teknik Listrik  LSK PT.SKPI\nPT.SKPI akan mengadakan uji kompetensi sertifikasi ketenagalistrikan dengan cara online bidang Pemanfaatan\nketenagalistrikan Pemanfaatan tenaga Listrik\, PT. Pro-Matrix\nSub bidang –  Pengoperasian – Pembangunan dan Pemasangan di minggu ke 3  Januari  2024  ini. Dengan jumlah sertifikat akreditasi 25 sertifikat \, Minggu ketiga di tanggal 15 Januari  2024 sampai dengan 16 Januari  2024 \,untuk informasi bisa ditanyakan secara Langsung datang ke kantor kami atau Via Online dengan cara sebagai berikut : atau info pendaftaran untuk mengikuti event berikutnya Segera daftar di form ini atau menghubungi kontak tertera di gambar\n \nHari / Tanggal : Senin–Selasa / 15-16  Januari  2024\nTempat Uji : Disesuaikan (Uji Online) \nSusunan Acara Kegiatan : \n\n\n\nSenin\, 15 Januari 2024\n\n\n\n08:00 –09:30\nPembukaan\, menggunakan Video Conference\n\n\n\n09:30 – 12:00\nKegiatan Uji Tulis (Soal akan dikirim ke masing-masing peserta)\n\n\n\n12:00 – 13:00\nIstirahat\n\n\n\n13:00 – 13:30\nPengumpulan hasil Uji Tulis (Format .pdf)\n\n\n\n13:30 – 16:00\nKegiatan Uji Praktik\, menggunakan Video Conference\n\n\n\nSelasa\, 16 Januari 2024\n\n\n\n08:00 – 12:00\nMelanjutkan kegiatan Uji Praktik\, menggunakan Video Conference\n\n\n\n12:00 – 13:00\nIstirahat\n\n\n\n13:30 – 16:00\nUmpan Balik – Penutupan menggunakan Video Conference
URL:https://skpi.co.id/event/uji-sertifikasi-pemanfaatan-tenaga-listrik-15-16januari2024/
LOCATION:Ujikom online bidang IPTL\, PT. SERTIFIKASI KOMPETENSI PROFESIONALIS INDONESIA\, Jakarta Pusat\, DKI Jakarta\, 10340\, Indonesia
CATEGORIES:pemanfaatan
ATTACH;FMTTYPE=image/png:https://skpi.co.id/wp-content/uploads/2024/01/1-sertifikasi-ketenagalistrikan-2024-IPTL-15-17601-2023.png
ORGANIZER;CN="PT.%20SKPI":MAILTO:admin@skpi.co.id
END:VEVENT
BEGIN:VEVENT
DTSTART;TZID=Asia/Jakarta:20240120T080000
DTEND;TZID=Asia/Jakarta:20240121T170000
DTSTAMP:20260422T212558
CREATED:20240114T053137Z
LAST-MODIFIED:20240114T053137Z
UID:3711-1705737600-1705856400@skpi.co.id
SUMMARY:UJI SERTIFIKASI PEMANFAATAN TENAGA LISTRIK 20-21januari2024
DESCRIPTION:Sertifikasi Ketenagalistrikan PEMANFAATAN Tenaga  Teknik Listrik  LSK PT.SKPI\nPT.SKPI akan mengadakan uji kompetensi sertifikasi ketenagalistrikan dengan cara online bidang Pemanfaatan\nketenagalistrikan Pemanfaatan tenaga Listrik\, PT. Abdhika Kreasi Mandiri.\nSub bidang – Pembangunan dan Pemasangan – Pemeriksaan dan Pengujian di minggu ke 4  Januari  2024  ini. Dengan jumlah sertifikat akreditasi maksimal 25 sertifikat \, Minggu keempat di tanggal 20 Januari  2024 sampai dengan 21 Januari  2024 \,untuk informasi bisa ditanyakan secara Langsung datang ke kantor kami atau Via Online dengan cara sebagai berikut : atau info pendaftaran untuk mengikuti event berikutnya Segera daftar di form ini atau menghubungi kontak tertera di gambar\n \nHari / Tanggal : Sabtu–Minggu/ 20-21  Januari  2024\nTempat Uji : Disesuaikan (Uji Online) \nSusunan Acara Kegiatan : \n\n\n\nSabtu\, 20 Januari 2024\n\n\n\n08:00 –09:30\nPembukaan\, menggunakan Video Conference\n\n\n\n09:30 – 12:00\nKegiatan Uji Tulis (Soal akan dikirim ke masing-masing peserta)\n\n\n\n12:00 – 13:00\nIstirahat\n\n\n\n13:00 – 13:30\nPengumpulan hasil Uji Tulis (Format .pdf)\n\n\n\n13:30 – 16:00\nKegiatan Uji Praktik\, menggunakan Video Conference\n\n\n\nMinggu\, 21 Januari 2024\n\n\n\n08:00 – 12:00\nMelanjutkan kegiatan Uji Praktik\, menggunakan Video Conference\n\n\n\n12:00 – 13:00\nIstirahat\n\n\n\n13:30 – 16:00\nUmpan Balik – Penutupan menggunakan Video Conference
URL:https://skpi.co.id/event/uji-sertifikasi-pemanfaatan-tenaga-listrik-20-21januari2024/
LOCATION:Ujikom online bidang IPTL\, PT. SERTIFIKASI KOMPETENSI PROFESIONALIS INDONESIA\, Jakarta Pusat\, DKI Jakarta\, 10340\, Indonesia
CATEGORIES:pemanfaatan
ATTACH;FMTTYPE=image/png:https://skpi.co.id/wp-content/uploads/2024/01/2-sertifikasi-ketenagalistrikan-2024-IPTL-210-212024.png
ORGANIZER;CN="PT.%20SKPI":MAILTO:admin@skpi.co.id
END:VEVENT
BEGIN:VEVENT
DTSTART;TZID=Asia/Jakarta:20240120T080000
DTEND;TZID=Asia/Jakarta:20240121T170000
DTSTAMP:20260422T212558
CREATED:20240115T121019Z
LAST-MODIFIED:20240115T121019Z
UID:3714-1705737600-1705856400@skpi.co.id
SUMMARY:UJI SERTIFIKASI TRANSMISI TENAGA LISTRIK 20-21januari2024
DESCRIPTION:Sertifikasi Ketenagalistrikan TRANSMISI Tenaga  Teknik Listrik  LSK PT.SKPI\nPT.SKPI akan mengadakan uji kompetensi sertifikasi ketenagalistrikan dengan cara online bidang Transmisi\nketenagalistrikan PT. Profesi Tiga Serangkai  Transmisi Listrik sub bidang Pengoperasian di minggu ke 4 Januari 2024 ini. Dengan jumlah sertifikat akreditasi 25 sertifikat \, Minggu Keempat di tanggal 20 Januari 2024  sampai dengan 21 Januari 2024 untuk informasi bisa ditanyakan secara Langsung datang ke kantor kami atau Via Online dengan cara sebagai berikut : atau info pendaftaran untuk mengikuti event berikutnya Segera daftar di form ini atau menghubungi kontak tertera di gambar\n \nHari / Tanggal : Sabtu–Minggu / 20–21Januari 2024\nTempat Uji : Disesuaikan (Uji Online)\nSusunan Acara Kegiatan : \nSusunan Acara Kegiatan : \n\n\n\nSabtu\, 20 Januari 2024\n\n\n\n08:00 – 09:30\nPembukaan\, menggunakan Video Conference\n\n\n\n09:30 – 12:00\nKegiatan Uji Tulis (Soal akan dikirim ke masing-masing peserta)\n\n\n\n12:00 – 13:00\nIstirahat\n\n\n\n13:00 – 13:30\nPengumpulan hasil Uji Tulis (Format .pdf)\n\n\n\n13:30 – 16:00\nKegiatan Uji Praktik\, menggunakan Video Conference\n\n\n\nMinggu\, 21 Januari 2024\n\n\n\n08:00 – 12:00\nMelanjutkan Kegiatan Uji praktik\n\n\n\n12:00 – 13:00\nIstirahat\n\n\n\n13:30 – 16:00\nMelanjutkan kegiatan uji praktek dan uji lisan\, menggunaka VC\n\n\n\n16:30 – Selesai\n Penutupan
URL:https://skpi.co.id/event/uji-sertifikasi-transmisi-tenaga-listrik-20-21januari2024/
LOCATION:Ujikom online bidang Transmisi\, PT. SERTIFIKASI KOMPETENSI PROFESIONALIS INDONESIA\, Jakarta Pusat\, DKI Jakarta\, 10340\, Indonesia
CATEGORIES:transmisi
ATTACH;FMTTYPE=image/png:https://skpi.co.id/wp-content/uploads/2024/01/1-sertifikasi-ketenagalistrikan-2024-TRANSMISI-20-21v01-2024.png
ORGANIZER;CN="PT.%20SKPI":MAILTO:admin@skpi.co.id
END:VEVENT
BEGIN:VEVENT
DTSTART;TZID=Asia/Jakarta:20240127T080000
DTEND;TZID=Asia/Jakarta:20240129T170000
DTSTAMP:20260422T212558
CREATED:20240120T102415Z
LAST-MODIFIED:20240120T102415Z
UID:3719-1706342400-1706547600@skpi.co.id
SUMMARY:UJI SERTIFIKASI PEMBANGKITAN TENAGA LISTRIK 27-29januari2024
DESCRIPTION:Sertifikasi Ketenagalistrikan PEMBANGKITAN Tenaga  Teknik Listrik  LSK PT.SKPI\nPT.SKPI akan mengadakan uji kompetensi sertifikasi ketenagalistrikan dengan cara online bidang Pembangkitan\nketenagalistrikan Pembangkitan tenaga Listrik.\nSub bidang – Pengoperasian –  Pembangunan dan Pemasangan  di minggu ke 4 Januari  2024 ini. Dengan jumlah sertifikat akreditasi 25 sertifikat \, Minggu Keempat di tanggal 27 Januari  2024 sampai dengan 29 Januari  2024\,untuk informasi bisa ditanyakan secara Langsung datang ke kantor kami atau Via Online dengan cara sebagai berikut : atau info pendaftaran untuk mengikuti event berikutnya Segera daftar di form ini atau menghubungi kontak tertera di gambar\n \nHari / Tanggal : Sabtu– Minggu / 27–29Januari  2024\nTempat Uji : Disesuaikan (Uji Online) \nSusunan Acara Kegiatan : \n\n\n\nSabtu\, 27 Januari  2024\n\n\n\n08:00 – 09:30\nPembukaan\, menggunakan Video Conference\n\n\n\n09:30 – 12:00\nKegiatan Uji Tulis (Soal akan dikirim ke masing-masing peserta)\n\n\n\n12:00 – 13:00\nIstirahat\n\n\n\n13:00 – 13:30\nPengumpulan hasil Uji Tulis (Format .pdf)\n\n\n\n13:30 – 16:00\nKegiatan Uji Praktik\, menggunakan Video Conference\n\n\n\nMinggu\, 28 Januari  2024\n\n\n\n08:00 – 12:00\nMelanjutkan kegiatan Uji Praktik\, menggunakan Video Conference\n\n\n\n12:00 – 13:00\nIstirahat\n\n\n\n13:30 – 16:00\nMelanjutkan Kegiatan Uji praktik\n\n\n\nSenin\, 29 Januari  2024\n\n\n\n08:00 – 12:00\nMelanjutkan kegiatan Uji Praktik\, menggunakan Video Conference\n\n\n\n12:00 – 13:00\nIstirahat\n\n\n\n13:30 – 16:00\nUmpan Balik – Penutupan menggunakan Video Conference
URL:https://skpi.co.id/event/uji-sertifikasi-pembangkitan-tenaga-listrik-27-29januari2024/
LOCATION:Ujikom online bidang pembangkit\, PT. SERTIFIKASI KOMPETENSI PROFESIONALIS INDONESIA\, Jakarta Pusat\, DKI Jakarta\, 10340\, Indonesia
CATEGORIES:pembangkit
ATTACH;FMTTYPE=image/png:https://skpi.co.id/wp-content/uploads/2024/01/3-sertifikasi-pembangkitan-ketenagalistrikan-29januari-2024.png
ORGANIZER;CN="PT.%20SKPI":MAILTO:admin@skpi.co.id
END:VEVENT
BEGIN:VEVENT
DTSTART;TZID=Asia/Jakarta:20240127T080000
DTEND;TZID=Asia/Jakarta:20240129T170000
DTSTAMP:20260422T212558
CREATED:20240120T122628Z
LAST-MODIFIED:20240120T122628Z
UID:3722-1706342400-1706547600@skpi.co.id
SUMMARY:UJI SERTIFIKASI TRANSMISI TENAGA LISTRIK 27-29januari2024
DESCRIPTION:Sertifikasi Ketenagalistrikan TRANSMISI Tenaga  Teknik Listrik  LSK PT.SKPI\nPT.SKPI akan mengadakan uji kompetensi sertifikasi ketenagalistrikan dengan cara online bidang Transmisi\nketenagalistrikan PT. AMYTHAS  Transmisi Listrik sub bidang Pemeliharaan – Pembangunan dan Pemasangan – Konsultansi Pengawasan di minggu ke 4 Januari 2024 ini. Dengan jumlah sertifikat akreditasi 25 sertifikat \, Minggu Keempat di tanggal 27 Januari 2024  sampai dengan 29 Januari 2024 untuk informasi bisa ditanyakan secara Langsung datang ke kantor kami atau Via Online dengan cara sebagai berikut : atau info pendaftaran untuk mengikuti event berikutnya Segera daftar di form ini atau menghubungi kontak tertera di gambar\n \nHari / Tanggal : Sabtu–Senin/ 27–29Januari 2024\nTempat Uji : Disesuaikan (Uji Online)\nSusunan Acara Kegiatan : \nSusunan Acara Kegiatan : \n\n\n\nSabtu\, 27 Januari 2024\n\n\n\n08:00 – 09:30\nPembukaan\, menggunakan Video Conference\n\n\n\n09:30 – 12:00\nKegiatan Uji Tulis (Soal akan dikirim ke masing-masing peserta)\n\n\n\n12:00 – 13:00\nIstirahat\n\n\n\n13:00 – 13:30\nPengumpulan hasil Uji Tulis (Format .pdf)\n\n\n\n13:30 – 16:00\nKegiatan Uji Praktik\, menggunakan Video Conference\n\n\n\nMinggu\, 28 Januari 2024\n\n\n\n08:00 – 09:30\nKegiatan Uji Tulis (Soal akan dikirim ke masing-masing peserta)\n\n\n\n09:30 – 12:00\nKegiatan Uji Tulis (Soal akan dikirim ke masing-masing peserta)\n\n\n\n12:00 – 13:00\nIstirahat\n\n\n\n13:00 – 13:30\nPengumpulan hasil Uji Tulis (Format .pdf)\n\n\n\n13:30 – 16:00\nKegiatan Uji Praktik\, menggunakan Video Conference\n\n\n\nSenin\, 29 Januari 2024\n\n\n\n08:00 – 12:00\nMelanjutkan Kegiatan Uji praktik\n\n\n\n12:00 – 13:00\nIstirahat\n\n\n\n13:30 – 16:00\nMelanjutkan kegiatan uji praktek dan uji lisan\, menggunaka VC\n\n\n\n16:30 – Selesai\n Penutupan
URL:https://skpi.co.id/event/uji-sertifikasi-transmisi-tenaga-listrik-27-29januari2024/
LOCATION:Ujikom online bidang Transmisi\, PT. SERTIFIKASI KOMPETENSI PROFESIONALIS INDONESIA\, Jakarta Pusat\, DKI Jakarta\, 10340\, Indonesia
CATEGORIES:transmisi
ATTACH;FMTTYPE=image/png:https://skpi.co.id/wp-content/uploads/2024/01/sertifikasi-ketenagalistrikan-transmisi-januari-2024.png
ORGANIZER;CN="PT.%20SKPI":MAILTO:admin@skpi.co.id
END:VEVENT
BEGIN:VEVENT
DTSTART;TZID=Asia/Jakarta:20240127T080000
DTEND;TZID=Asia/Jakarta:20240130T170000
DTSTAMP:20260422T212558
CREATED:20240120T124120Z
LAST-MODIFIED:20240120T124120Z
UID:3725-1706342400-1706634000@skpi.co.id
SUMMARY:UJI SERTIFIKASI DISTRIBUSI TENAGA LISTRIK 27-30januari2024
DESCRIPTION:Sertifikasi Ketenagalistrikan DISTRIBUSI Tenaga  Teknik Listrik  LSK PT.SKPI\nPT.SKPI akan mengadakan uji kompetensi sertifikasi ketenagalistrikan dengan cara online bidang Distribusi\nketenagalistrikan. Distribusi tenaga Listrik PT. Graha Bara Lestari \,  sub bidang – Pembangunan & Pemasangan – Pengoperasian di minggu ke 4 Januari 2024 ini. Dengan jumlah sertifikat akreditasi 25 sertifikat. \nMinggu Keempat di tanggal 27 Januari 2024 sampai dengan 30 Januari 2024.  \nUntuk informasi bisa ditanyakan secara Langsung datang ke kantor kami atau Via Online dengan cara sebagai berikut atau info pendaftaran untuk mengikuti event berikutnya Segera daftar di form ini atau menghubungi kontak tertera di gambar : \n \nHari / Tanggal : Sabtu–Selasa/ 27 Januari – 30 Januari 2024\nTempat Uji : Disesuaikan (Uji Online)\nSusunan Acara Kegiatan : \nSusunan Acara Kegiatan :\n\n\n\nSabtu\, 27 Januari 2024\n\n\n\n08:00 – 09:30\nPembukaan\, menggunakan Video Conference\n\n\n\n09:30 – 12:00\nKegiatan Uji Tulis (Soal akan dikirim ke masing-masing peserta)\n\n\n\n12:00 – 13:00\nIstirahat\n\n\n\n13:00 – 13:30\nPengumpulan hasil Uji Tulis (Format .pdf)\n\n\n\n13:30 – 16:00\nKegiatan Uji Praktik\, menggunakan Video Conference\n\n\n\n08:00 – 12:00\nMelanjutkan Kegiatan Uji praktik\n\n\n\n12:00 – 13:00\nIstirahat\n\n\n\n13:30 – 16:00\nMelanjutkan kegiatan uji praktek dan uji lisan\, menggunaka VC\n\n\n\n16:30 – Selesai\n Penutupan\n\n\n\nMinggu\, 28 Januari 2024\n\n\n\n08:00 – 09:30\nMelanjutkan  Kegiatan Uji Tulis (Soal akan dikirim ke masing-masing peserta)\n\n\n\n09:30 – 12:00\nMelanjutkan  Kegiatan Uji Tulis (Soal akan dikirim ke masing-masing peserta)\n\n\n\n12:00 – 13:00\nIstirahat\n\n\n\n13:00 – 13:30\nPengumpulan hasil Uji Tulis (Format .pdf)\n\n\n\n13:30 – 16:00\nKegiatan Uji Praktik\, menggunakan Video Conference\n\n\n\n08:00 – 12:00\nMelanjutkan Kegiatan Uji praktik\n\n\n\n12:00 – 13:00\nIstirahat\n\n\n\n13:30 – 16:00\nMelanjutkan kegiatan uji praktek dan uji lisan\, menggunaka VC\n\n\n\n16:30 – Selesai\n Penutupan\n\n\n\nSenin\, 29 Januari 2024\n\n\n\n08:00 – 09:30\n Melanjutkan  Kegiatan Uji Tulis (Soal akan dikirim ke masing-masing peserta)\n\n\n\n09:30 – 12:00\n Melanjutkan  Kegiatan Uji Tulis (Soal akan dikirim ke masing-masing peserta)\n\n\n\n12:00 – 13:00\nIstirahat\n\n\n\n13:00 – 13:30\nPengumpulan hasil Uji Tulis (Format .pdf)\n\n\n\n13:30 – 16:00\nKegiatan Uji Praktik\, menggunakan Video Conference\n\n\n\n08:00 – 12:00\nMelanjutkan Kegiatan Uji praktik\n\n\n\n12:00 – 13:00\nIstirahat\n\n\n\n13:30 – 16:00\nMelanjutkan kegiatan uji praktek dan uji lisan\, menggunaka VC\n\n\n\n16:30 – Selesai\n Penutupan\n\n\n\nSelasa\, 30 Januari 2024\n\n\n\n08:00 – 12:00\nMelanjutkan Kegiatan Uji praktik\n\n\n\n12:00 – 13:00\nIstirahat\n\n\n\n13:30 – 16:00\nMelanjutkan kegiatan uji praktek dan uji lisan\, menggunaka VC\n\n\n\n16:30 – Selesai\n Penutupan
URL:https://skpi.co.id/event/uji-sertifikasi-distribusi-tenaga-listrik-27-30januari2024/
LOCATION:Ujikom online bidang distribusi\, PT. SERTIFIKASI KOMPETENSI PROFESIONALIS INDONESIA\, Jakarta Pusat\, DKI Jakarta\, 10340\, Indonesia
CATEGORIES:distribusi
ATTACH;FMTTYPE=image/png:https://skpi.co.id/wp-content/uploads/2024/01/distribusi-27-januari-2024.png
ORGANIZER;CN="PT.%20SKPI":MAILTO:admin@skpi.co.id
END:VEVENT
END:VCALENDAR