BEGIN:VCALENDAR
VERSION:2.0
PRODID:-//Sertifikasi Kompetensi Profesionalis Indonesia - ECPv5.1.6//NONSGML v1.0//EN
CALSCALE:GREGORIAN
METHOD:PUBLISH
X-WR-CALNAME:Sertifikasi Kompetensi Profesionalis Indonesia
X-ORIGINAL-URL:https://skpi.co.id
X-WR-CALDESC:Events for Sertifikasi Kompetensi Profesionalis Indonesia
BEGIN:VTIMEZONE
TZID:Asia/Jakarta
BEGIN:STANDARD
TZOFFSETFROM:+0700
TZOFFSETTO:+0700
TZNAME:WIB
DTSTART:20240101T000000
END:STANDARD
END:VTIMEZONE
BEGIN:VEVENT
DTSTART;TZID=Asia/Jakarta:20241102T080000
DTEND;TZID=Asia/Jakarta:20241102T170000
DTSTAMP:20260424T101221
CREATED:20241023T063931Z
LAST-MODIFIED:20241023T063931Z
UID:4089-1730534400-1730566800@skpi.co.id
SUMMARY:UJI SERTIFIKASI TRANSMISI TENAGA LISTRIK 02november2024
DESCRIPTION:Sertifikasi Ketenagalistrikan LSK PT.SKPITweetSertifikasi Ketenagalistrikan TRANSMISI Tenaga  Teknik Listrik  LSK PT.SKPI\nPT.SKPI akan mengadakan uji kompetensi sertifikasi ketenagalistrikan dengan cara Offline bidang Transmisi\nketenagalistrikan Transmisi tenaga Listrik\,\nSub bidang – Semua Sub Bidang di minggu ke 1 November 2024  ini. Dengan jumlah sertifikat akreditasi maksimal 25 sertifikat \, Minggu Keempat di tanggal 02 November 2024  \,untuk informasi bisa ditanyakan secara Langsung datang ke kantor kami atau Via Online dengan cara sebagai berikut : atau info pendaftaran untuk mengikuti event berikutnya Segera daftar di form ini atau menghubungi kontak tertera di gambar.\n \nHari / Tanggal : Sabtu / 02 November 2024\nTempat Uji : PT.SKPI\nJl. Menteng Raya No.29\, RT.1/RW.10\, Kb. Sirih\, Kec. Menteng\, Kota Jakarta Pusat 10410 \nSusunan Acara Kegiatan : \n\n\n\nSabtu\, 02 November 2024\n\n\n\n08:00 –09:30\nPembukaan\,\n\n\n\n09:30 – 12:00\nKegiatan Uji Tulis\n\n\n\n12:00 – 13:00\nIstirahat\n\n\n\n13:00 – 13:30\nPengumpulan hasil Uji Tulis (hard copy)\n\n\n\n13:30 – 16:00\nKegiatan Uji Praktik\, di TUK
URL:https://skpi.co.id/event/uji-sertifikasi-transmisi-tenaga-listrik-02november2024/
LOCATION:Ujikom ketenagalistrikan Offline\, Jl. Menteng Raya No.29\, RT.1/RW.10\, Kb. Sirih\, Kec. Menteng\, Kota Jakarta Pusat\, Daerah Khusus Ibukota Jakarta 10410\, Jakarta\, Indonesia\, 10410\, Indonesia
CATEGORIES:transmisi
ATTACH;FMTTYPE=image/png:https://skpi.co.id/wp-content/uploads/2024/10/trans-02november2024-bosAi.png
ORGANIZER;CN="PT.%20SKPI":MAILTO:admin@skpi.co.id
END:VEVENT
END:VCALENDAR