BEGIN:VCALENDAR
VERSION:2.0
PRODID:-//Sertifikasi Kompetensi Profesionalis Indonesia - ECPv5.1.6//NONSGML v1.0//EN
CALSCALE:GREGORIAN
METHOD:PUBLISH
X-WR-CALNAME:Sertifikasi Kompetensi Profesionalis Indonesia
X-ORIGINAL-URL:https://skpi.co.id
X-WR-CALDESC:Events for Sertifikasi Kompetensi Profesionalis Indonesia
BEGIN:VTIMEZONE
TZID:Asia/Jakarta
BEGIN:STANDARD
TZOFFSETFROM:+0700
TZOFFSETTO:+0700
TZNAME:WIB
DTSTART:20250101T000000
END:STANDARD
END:VTIMEZONE
BEGIN:VEVENT
DTSTART;TZID=Asia/Jakarta:20250410T080000
DTEND;TZID=Asia/Jakarta:20250410T170000
DTSTAMP:20260422T164741
CREATED:20250326T100703Z
LAST-MODIFIED:20250326T100703Z
UID:4293-1744272000-1744304400@skpi.co.id
SUMMARY:UJI SERTIFIKASI PEMANFAATAN TENAGA LISTRIK 10 APRIL 2025
DESCRIPTION:Sertifikasi Ketenagalistrikan LSK PT.SKPITweetSertifikasi Ketenagalistrikan PEMANFAATAN Tenaga  Teknik Listrik  LSK PT.SKPI\nPT.SKPI akan mengadakan uji kompetensi sertifikasi ketenagalistrikan dengan cara Offline bidang Pemanfaatan\nketenagalistrikan Pemanfaatan tenaga Listrik\,\nSub bidang – Semua Sub Bidang di minggu ke 2  april 2025  ini. Dengan jumlah sertifikat akreditasi maksimal 25 sertifikat \, Minggu Kedua tanggal 10 april 2025  \,untuk informasi bisa ditanyakan secara Langsung datang ke kantor kami atau Via Online dengan cara sebagai berikut : atau info pendaftaran untuk mengikuti event berikutnya Segera daftar di form ini atau menghubungi kontak tertera di gambar.\n \nHari / Tanggal : Kamis / 10 april 2025\nTempat Uji : PT.SKPI\nJl. Menteng Raya No.29\, RT.1/RW.10\, Kb. Sirih\, Kec. Menteng\, Kota Jakarta Pusat 10410 \nSusunan Acara Kegiatan : \n\n\n\nKamis\, 10 april 2025\n\n\n\n08:00 –09:30\nPembukaan\,\n\n\n\n09:30 – 12:00\nKegiatan Uji Tulis\n\n\n\n12:00 – 13:00\nIstirahat\n\n\n\n13:00 – 13:30\nPengumpulan hasil Uji Tulis (hard copy)\n\n\n\n13:30 – 16:00\nKegiatan Uji Praktik\, di TUK
URL:https://skpi.co.id/event/uji-sertifikasi-pemanfaatan-tenaga-listrik-10april2025/
LOCATION:Ujikom ketenagalistrikan Offline\, Jl. Menteng Raya No.29\, RT.1/RW.10\, Kb. Sirih\, Kec. Menteng\, Kota Jakarta Pusat\, Daerah Khusus Ibukota Jakarta 10410\, Jakarta\, Indonesia\, 10410\, Indonesia
CATEGORIES:pemanfaatan
ATTACH;FMTTYPE=image/png:https://skpi.co.id/wp-content/uploads/2025/03/uji-sertifikasi-ketenagalistrikan-iptl-10-april-2025-bosAi.png
ORGANIZER;CN="PT.%20SKPI":MAILTO:admin@skpi.co.id
END:VEVENT
END:VCALENDAR